BEGIN:VCALENDAR
VERSION:2.0
PRODID:-//Center for International and Regional Studies - ECPv6.15.15//NONSGML v1.0//EN
CALSCALE:GREGORIAN
METHOD:PUBLISH
X-WR-CALNAME:Center for International and Regional Studies
X-ORIGINAL-URL:https://cirs.qatar.georgetown.edu
X-WR-CALDESC:Events for Center for International and Regional Studies
REFRESH-INTERVAL;VALUE=DURATION:PT1H
X-Robots-Tag:noindex
X-PUBLISHED-TTL:PT1H
BEGIN:VTIMEZONE
TZID:Europe/Moscow
BEGIN:DAYLIGHT
TZOFFSETFROM:+0300
TZOFFSETTO:+0400
TZNAME:MSD
DTSTART:20070324T230000
END:DAYLIGHT
BEGIN:STANDARD
TZOFFSETFROM:+0400
TZOFFSETTO:+0300
TZNAME:MSK
DTSTART:20071027T230000
END:STANDARD
BEGIN:DAYLIGHT
TZOFFSETFROM:+0300
TZOFFSETTO:+0400
TZNAME:MSD
DTSTART:20080329T230000
END:DAYLIGHT
BEGIN:STANDARD
TZOFFSETFROM:+0400
TZOFFSETTO:+0300
TZNAME:MSK
DTSTART:20081025T230000
END:STANDARD
BEGIN:DAYLIGHT
TZOFFSETFROM:+0300
TZOFFSETTO:+0400
TZNAME:MSD
DTSTART:20090328T230000
END:DAYLIGHT
BEGIN:STANDARD
TZOFFSETFROM:+0400
TZOFFSETTO:+0300
TZNAME:MSK
DTSTART:20091024T230000
END:STANDARD
END:VTIMEZONE
BEGIN:VEVENT
DTSTART;TZID=Europe/Moscow:20080124T080000
DTEND;TZID=Europe/Moscow:20080124T180000
DTSTAMP:20260421T143932
CREATED:20141023T084644Z
LAST-MODIFIED:20210902T113420Z
UID:10000814-1201161600-1201197600@cirs.qatar.georgetown.edu
SUMMARY:Andrew Natsios on "The Sudan in Crisis and the International Response"
DESCRIPTION:On January 24\, 2008\, CIRS sponsored a Distinguished Lecture by Andrew Natsios\, Professor on the Practice of Diplomacy at Georgetown University and former U.S. Special Envoy to Darfur. The lecture was titled “The Sudan in Crisis and the International Response” and took place at the Al Sharq Village Hotel. It was attended by fifty invited guests who were treated to dinner and insight into one of the world’s most prominent crises. Earlier in the day\, Natsios also spoke on the Sudan in a keynote address to some 350 high school students gathered at the Opening Ceremony of the CIRS-sponsored annual Model United Nations conference. \n \n \nCommenting on the ongoing crisis in the Sudan\, Natsios detailed the complex tensions that have fueled violent conflicts in the Darfur region\, building on his firsthand knowledge of the Sudan and its political actors. Beside the tense relations that exist between Sudanese of Arab and African descent\, Natsios’ discussion touched upon a series of lesser-known issues\, such as the strained relations between the central government and the Janjaweed (tribal militias). \n \n \nNatsios highlighted the real danger regarding the collapse of central authority in Africa’s largest country should the country return to war between the North and the South which nearly happened in October and November 2007. The ethnic cleansing of Darfur represents only one aspect of a much larger crisis that could lead to the disintegration of the Sudan\, with even more tragic political and humanitarian consequences for the whole of eastern Africa. Unless the international community realizes the gravity of the situation and the fragility of central authority in Khartoum\, and enjoins all of the political actors involved to alter their current course of action\, the country is likely to break up under the pressure of various centrifugal forces. \n \n \nNatsios argued that the central government in Khartoum has managed to alienate several previously non-political Sudanese social groups. It has\, among other things\, failed to honor all the articles of the Comprehensive Peace Agreement of 2005\, which was intended to put an end to the long civil conflict between the predominantly Muslim North and the oil-rich Christian South. As a result\, the most serious conflict in recent Sudanese history—with casualties ten times those of the Darfur crisis—remains a partially unresolved issue that continues to threaten the stability of the entire country. With high levels of discontent and resentment among the population and a high proportion of government officials who are unwilling to defuse the situation peacefully for fear of a coup or of standing trial for war crimes\, the Sudan is becoming increasingly unstable and should the North and South return to war\, might well disintegrate as a state. \n \n \nTo bring the current crises to an end and avoid future degradation\, Natsios argued that the international community must first and foremost encourage the parties to enforce the Comprehensive Peace Agreement it originally supported\, and must normalize political relations with the Sudanese government. Because the International Criminal Court is a sword of Damocles hanging over Sudanese officials\, it has become an impediment to conflict resolution. For this reason\, Natsios recommended that the international community forgo the right to bring suspected war criminals to justice in exchange for peace and stability. The Sudanese government\, for its part\, would have to share oil revenues equitably\, restrain the hardliners within its own ranks\, and give greater regional autonomy to Darfur. These measures\, combined with free\, fair and open elections\, present the only viable options for saving Sudan from fragmenting into its various provinces and bringing the Darfur crisis to an end. \n \n \nSummary prepared by Henri Lauziere. Henri is a Teaching Assistant at the Georgetown University School of Foreign Service in Qatar.
URL:https://cirs.qatar.georgetown.edu/event/andrew-natsios-sudan-crisis-and-international-response/
CATEGORIES:Dialogue Series,Regional Studies
ATTACH;FMTTYPE=image/jpeg:https://cirs.qatar.georgetown.edu/wp-content/uploads/sites/3/2014/10/events_20511_16621_1414054004-1.jpg
END:VEVENT
END:VCALENDAR