BEGIN:VCALENDAR
VERSION:2.0
PRODID:-//Center for International and Regional Studies - ECPv6.15.15//NONSGML v1.0//EN
CALSCALE:GREGORIAN
METHOD:PUBLISH
X-ORIGINAL-URL:https://cirs.qatar.georgetown.edu
X-WR-CALDESC:Events for Center for International and Regional Studies
REFRESH-INTERVAL;VALUE=DURATION:PT1H
X-Robots-Tag:noindex
X-PUBLISHED-TTL:PT1H
BEGIN:VTIMEZONE
TZID:Europe/Moscow
BEGIN:DAYLIGHT
TZOFFSETFROM:+0300
TZOFFSETTO:+0400
TZNAME:MSD
DTSTART:20070324T230000
END:DAYLIGHT
BEGIN:STANDARD
TZOFFSETFROM:+0400
TZOFFSETTO:+0300
TZNAME:MSK
DTSTART:20071027T230000
END:STANDARD
BEGIN:DAYLIGHT
TZOFFSETFROM:+0300
TZOFFSETTO:+0400
TZNAME:MSD
DTSTART:20080329T230000
END:DAYLIGHT
BEGIN:STANDARD
TZOFFSETFROM:+0400
TZOFFSETTO:+0300
TZNAME:MSK
DTSTART:20081025T230000
END:STANDARD
BEGIN:DAYLIGHT
TZOFFSETFROM:+0300
TZOFFSETTO:+0400
TZNAME:MSD
DTSTART:20090328T230000
END:DAYLIGHT
BEGIN:STANDARD
TZOFFSETFROM:+0400
TZOFFSETTO:+0300
TZNAME:MSK
DTSTART:20091024T230000
END:STANDARD
END:VTIMEZONE
BEGIN:VEVENT
DTSTART;TZID=Europe/Moscow:20080413T120000
DTEND;TZID=Europe/Moscow:20080414T003000
DTSTAMP:20260423T093121
CREATED:20140914T123145Z
LAST-MODIFIED:20240314T115432Z
UID:10000848-1208088000-1208133000@cirs.qatar.georgetown.edu
SUMMARY:Documentary Film - Promises
DESCRIPTION:As part of its ongoing outreach efforts\, the Center for International and Regional Studies (CIRS) hosted B.Z. Goldberg and Justine Shapiro\, creators of the multiple award-winning documentary film Promises\, and invited them to take part in public screenings of the film. Promises is a documentary film that follows the stories of seven children from opposite sides of the Palestinian-Israeli conflict. The film was a nominee in the category of “Best Feature Documentary” at the 74th Annual Academy Awards.Goldberg and Shapiro were invited to come to the Georgetown University School of Foreign Service in Qatar campus\, where they were welcomed by CIRS staff and where they conducted an informal workshop with SFS-Qatar students and faculty.On April 14th\, 2008\, CIRS organized two different screenings of Promises in one day in order to accommodate public demand and interest in the documentary. The first screening at the auditorium in the College of the North Atlantic-Qatar (CNA-Q) was the matinee and aimed at local Qatari and international high-school students\, who attended the screening accompanied by their chaperones. The matinee was attended by 150 students from the American School of Doha and from Amna Bint Wahab School for Girls. The evening event\, also held at the CNA-Q auditorium\, was dedicated to the members of the general public and began with a reception for the attendees before the screening of the film. Both Goldberg and Shapiro were in attendance and took the stage after the screening of the film\, in order to answer audience questions. 
URL:https://cirs.qatar.georgetown.edu/event/documentary-film-promises/
CATEGORIES:Dialogue Series,Distingushed Lectures,Regional Studies
ATTACH;FMTTYPE=image/jpeg:https://cirs.qatar.georgetown.edu/wp-content/uploads/sites/3/2014/09/events_15591_8906_1411057103-1.jpg
END:VEVENT
END:VCALENDAR