BEGIN:VCALENDAR
VERSION:2.0
PRODID:-//Center for International and Regional Studies - ECPv6.15.15//NONSGML v1.0//EN
CALSCALE:GREGORIAN
METHOD:PUBLISH
X-WR-CALNAME:Center for International and Regional Studies
X-ORIGINAL-URL:https://cirs.qatar.georgetown.edu
X-WR-CALDESC:Events for Center for International and Regional Studies
REFRESH-INTERVAL;VALUE=DURATION:PT1H
X-Robots-Tag:noindex
X-PUBLISHED-TTL:PT1H
BEGIN:VTIMEZONE
TZID:Europe/Moscow
BEGIN:DAYLIGHT
TZOFFSETFROM:+0300
TZOFFSETTO:+0400
TZNAME:MSD
DTSTART:20070324T230000
END:DAYLIGHT
BEGIN:STANDARD
TZOFFSETFROM:+0400
TZOFFSETTO:+0300
TZNAME:MSK
DTSTART:20071027T230000
END:STANDARD
BEGIN:DAYLIGHT
TZOFFSETFROM:+0300
TZOFFSETTO:+0400
TZNAME:MSD
DTSTART:20080329T230000
END:DAYLIGHT
BEGIN:STANDARD
TZOFFSETFROM:+0400
TZOFFSETTO:+0300
TZNAME:MSK
DTSTART:20081025T230000
END:STANDARD
BEGIN:DAYLIGHT
TZOFFSETFROM:+0300
TZOFFSETTO:+0400
TZNAME:MSD
DTSTART:20090328T230000
END:DAYLIGHT
BEGIN:STANDARD
TZOFFSETFROM:+0400
TZOFFSETTO:+0300
TZNAME:MSK
DTSTART:20091024T230000
END:STANDARD
END:VTIMEZONE
BEGIN:VEVENT
DTSTART;TZID=Europe/Moscow:20080304T120000
DTEND;TZID=Europe/Moscow:20080304T130000
DTSTAMP:20260422T140950
CREATED:20171115T082127Z
LAST-MODIFIED:20240314T115501Z
UID:10001350-1204632000-1204635600@cirs.qatar.georgetown.edu
SUMMARY:Ed Husain on the Jihadist Movement
DESCRIPTION:On March 4\, 2008\, Ed Husain visited SFS-Q to meet with Georgetown University students and to engage with them in an informal group discussion. Husain was in Qatar as a guest on the Doha Debates show which had filmed a day earlier the debate entitled “This House Believes that Muslims are Failing to Combat Extremism” in which he was for the motion. He is the deputy director of The Quilliam Foundation\, which is a Muslim organization against extremism and author of The Islamist: Why I joined Radical Islam in Britain\, What I Saw Inside and Why I Left\, published by Penguin in 2007. \n\nHusain discussed his book which describes his descent into\, and then subsequent break from\, radical Islam. He engaged with the students and answered their questions regarding his experiences as a former British Jihadist who managed to disengage from extremism.
URL:https://cirs.qatar.georgetown.edu/event/ed-husain-jihadist-movement/
CATEGORIES:Dialogue Series,Race & Society,Regional Studies
ATTACH;FMTTYPE=image/jpeg:https://cirs.qatar.georgetown.edu/wp-content/uploads/sites/3/2017/11/events_20881_45931_1510734087-1.jpg
END:VEVENT
END:VCALENDAR