BEGIN:VCALENDAR
VERSION:2.0
PRODID:-//Center for International and Regional Studies - ECPv6.15.15//NONSGML v1.0//EN
CALSCALE:GREGORIAN
METHOD:PUBLISH
X-ORIGINAL-URL:https://cirs.qatar.georgetown.edu
X-WR-CALDESC:Events for Center for International and Regional Studies
REFRESH-INTERVAL;VALUE=DURATION:PT1H
X-Robots-Tag:noindex
X-PUBLISHED-TTL:PT1H
BEGIN:VTIMEZONE
TZID:Europe/Moscow
BEGIN:DAYLIGHT
TZOFFSETFROM:+0300
TZOFFSETTO:+0400
TZNAME:MSD
DTSTART:20070324T230000
END:DAYLIGHT
BEGIN:STANDARD
TZOFFSETFROM:+0400
TZOFFSETTO:+0300
TZNAME:MSK
DTSTART:20071027T230000
END:STANDARD
BEGIN:DAYLIGHT
TZOFFSETFROM:+0300
TZOFFSETTO:+0400
TZNAME:MSD
DTSTART:20080329T230000
END:DAYLIGHT
BEGIN:STANDARD
TZOFFSETFROM:+0400
TZOFFSETTO:+0300
TZNAME:MSK
DTSTART:20081025T230000
END:STANDARD
BEGIN:DAYLIGHT
TZOFFSETFROM:+0300
TZOFFSETTO:+0400
TZNAME:MSD
DTSTART:20090328T230000
END:DAYLIGHT
BEGIN:STANDARD
TZOFFSETFROM:+0400
TZOFFSETTO:+0300
TZNAME:MSK
DTSTART:20091024T230000
END:STANDARD
END:VTIMEZONE
BEGIN:VEVENT
DTSTART;TZID=Europe/Moscow:20080211T080000
DTEND;TZID=Europe/Moscow:20080211T180000
DTSTAMP:20260426T070331
CREATED:20141026T093909Z
LAST-MODIFIED:20240314T115534Z
UID:10000966-1202716800-1202752800@cirs.qatar.georgetown.edu
SUMMARY:Gary Wasserman on the role of Lobbying Groups in American Foreign Policy
DESCRIPTION:On February 11\, 2008\, students and guests of CIRS were treated to a lecture by Gary Wasserman\, Professor of Government at the Georgetown University School of Foreign Service in Qatar. Wasserman’s lecture\, part of the CIRS Monthly Dialogue Series\, discussed the question “Democracy and American Foreign Policy: Do Interest Groups Help or Hinder?” \n \n \nWasserman argued that allowing interest groups to lobby helps open up the highly centralized U.S. foreign policy process\, which is dominated by the executive branch. Wasserman called this executive hegemony “presidentialism.” Presidentialism can be illustrated by many experiences under the Bush administration\, Wasserman said. He cited examples of presidential language modeled on rhetoric of the armed forces\, and of the increase in classified documents under the Bush administration. \n \n \nWasserman claimed that the use of classified documents limits the involvement of outsiders in the political process\, and reduces political debate and executive accountability. Moreover\, these classified documents are used selectively as a means to an end\, as in the case of the buildup of argumentation for the Iraq War\, Wasserman said. Serving as another example of presidentialism are governmental sanctions against dissident voices\, such as the case of two American Israel Public Affairs Committee lobbyists who have recently been prosecuted for having obtained classified information. \n \n \nAccording to Wasserman\, the post-9/11 climate has added strength to the tendency of presidentialism; however\, over the past few years and with new presidential elections coming up\, this trend is beginning to be undermined by others\, like globalization. Through globalization\, new and different influence groups have risen\, and this broadening of the political sphere has made American foreign policy slightly more pragmatic. \n \n \nWasserman then anticipated an expected audience question\, stemming from the widespread negative image of interest groups and lobbyists: Is greater public involvement in foreign policy desirable? Here\, Wasserman referred to Alexis De Tocqueville\, who\, in the mid-nineteenth century\, pointed to the uneasy relationship in the United States between foreign policy and democracy. \n \n \nTraditionally\, these two entities are seen as antagonistic towards each other. Wasserman commented\, however\, that foreign policy often results from bureaucratic compromises\, and that foreign policy is portrayed as more coherent than it actually is. Discussing the people factor\, he referred to the work of Benjamin Page\, who portrays the public as just as coherent\, and stresses that it should not be excluded from the political decision-making process. Page then provides suggestions for the problem at the core of this matter\, i.e.\, how to make democracy work with foreign policy. \n \n \nCurrently in U.S. society\, the problem of the “people factor” has led to increasing prominence of experts in all fields. Since in foreign policy\, lobbyists are the experts\, lobbyists can in fact open up the foreign policy process\, and lessen presidentialism\, Wasserman claimed. \n \n \nWasserman argued against the traditional negative stereotype that surround lobbyists. Adding nuance to their traditional image\, he alerted his audience to the potentialities of lobbyists as contributors to foreign policy-making in the democratic state\, rather than selfish takers in that process. \n \n \nSummary prepared by Katrien Vanpee. Katrien is a PhD-candidate at Georgetown University\, and works at the Embassy of Belgium in Doha.
URL:https://cirs.qatar.georgetown.edu/event/gary-wasserman-role-lobbying-groups-american-foreign-policy/
CATEGORIES:American Studies,Dialogue Series,Regional Studies
ATTACH;FMTTYPE=image/jpeg:https://cirs.qatar.georgetown.edu/wp-content/uploads/sites/3/2014/10/events_20816_19881_1414316381-1.jpg
END:VEVENT
END:VCALENDAR