BEGIN:VCALENDAR
VERSION:2.0
PRODID:-//Center for International and Regional Studies - ECPv6.15.15//NONSGML v1.0//EN
CALSCALE:GREGORIAN
METHOD:PUBLISH
X-WR-CALNAME:Center for International and Regional Studies
X-ORIGINAL-URL:https://cirs.qatar.georgetown.edu
X-WR-CALDESC:Events for Center for International and Regional Studies
REFRESH-INTERVAL;VALUE=DURATION:PT1H
X-Robots-Tag:noindex
X-PUBLISHED-TTL:PT1H
BEGIN:VTIMEZONE
TZID:Europe/Moscow
BEGIN:DAYLIGHT
TZOFFSETFROM:+0300
TZOFFSETTO:+0400
TZNAME:MSD
DTSTART:20060325T230000
END:DAYLIGHT
BEGIN:STANDARD
TZOFFSETFROM:+0400
TZOFFSETTO:+0300
TZNAME:MSK
DTSTART:20061028T230000
END:STANDARD
BEGIN:DAYLIGHT
TZOFFSETFROM:+0300
TZOFFSETTO:+0400
TZNAME:MSD
DTSTART:20070324T230000
END:DAYLIGHT
BEGIN:STANDARD
TZOFFSETFROM:+0400
TZOFFSETTO:+0300
TZNAME:MSK
DTSTART:20071027T230000
END:STANDARD
BEGIN:DAYLIGHT
TZOFFSETFROM:+0300
TZOFFSETTO:+0400
TZNAME:MSD
DTSTART:20080329T230000
END:DAYLIGHT
BEGIN:STANDARD
TZOFFSETFROM:+0400
TZOFFSETTO:+0300
TZNAME:MSK
DTSTART:20081025T230000
END:STANDARD
END:VTIMEZONE
BEGIN:VEVENT
DTSTART;TZID=Europe/Moscow:20071210T180000
DTEND;TZID=Europe/Moscow:20071210T180000
DTSTAMP:20260422T162117
CREATED:20141026T094535Z
LAST-MODIFIED:20210902T113502Z
UID:10000967-1197309600-1197309600@cirs.qatar.georgetown.edu
SUMMARY:Sherene Seikaly on Palestinian Businessmen and the British Colonial State
DESCRIPTION:As part of the Monthly Dialogue Series\, Dr. Sherene Seikaly\, the 2007-2008 Qatar Postdoctoral Fellow at Georgetown University’s Center for Contemporary Arab Studies in Washington\, DC\, gave a lecture titled “A Public Good? Palestinian Businessmen and the British Colonial State 1939-1948.” On December 10\, 2007\, Seikaly spoke to a local audience in Doha\, where she defended the view that Palestine had a vibrant and diverse economic culture during the British mandate. \n \n \nSeikaly claimed that when discussing pre-1948 Palestine\, one is influenced by a meta-narrative of impending catastrophe and the failure to achieve a Palestinian state. Thus\, she said\, the dynamics of social transformation and the vast economic growth in Arab Palestine are often overlooked. \n \n \nSeikaly’s research aims to contradict the commonly held notions that pre-1948 Palestine was a flatly divided society between corrupt\, feuding elites and poor\, ignorant masses. Instead\, Seikaly assured\, Palestine under the British mandate was experiencing rapid economic growth and the development of capitalism as a means of citizenship and of nationalism. \n \n \nSeikaly stated that contrary to popular belief\, Palestinian businessmen conceived of post-colonial Palestine as a state where Jews and Palestinian Arabs could co-exist as equitable citizens\, both contributing to the market. From 1939 to 1944\, under British mobilization for the war effort\, Palestinian exports doubled and the money supply grew sevenfold. While intense rationing and a newly developed income tax hampered many Palestinians’ daily lives\, Palestinian entrepreneurs remained actively involved in the economy\, petitioning the Brits with concerns and participating in local chambers of commerce. In fact\, there were many instances of joint Jewish and Palestinian Arab Chambers of Commerce\, including in Haifa until 1921 and Jerusalem until 1936. Even after 1936 the Jerusalem Chamber of Commerce remained diverse in its composition\, including Christians\, Muslims\, Armenians and many other minorities. Seikaly encouraged the audience to avoid thinking in generalizations about either Palestinian Arabs or Jews. \n \n \nSeikaly lectured earlier in the day to students and faculty at Qatar University. She received her Ph.D. from New York University in 2007 in the fields of History\, and Middle Eastern and Islamic Studies. She is also the co-editor of the Arab Studies Journal.  \n \n \nSummary prepared by Kathryn King. Kathryn is a CIRS staff member.
URL:https://cirs.qatar.georgetown.edu/event/sherene-seikaly-palestinian-businessmen-and-british-colonial-state/
CATEGORIES:Dialogue Series,Regional Studies
ATTACH;FMTTYPE=image/jpeg:https://cirs.qatar.georgetown.edu/wp-content/uploads/sites/3/2014/10/events_20821_19886_1414316735-1.jpg
END:VEVENT
END:VCALENDAR