BEGIN:VCALENDAR
VERSION:2.0
PRODID:-//Center for International and Regional Studies - ECPv6.15.15//NONSGML v1.0//EN
CALSCALE:GREGORIAN
METHOD:PUBLISH
X-ORIGINAL-URL:https://cirs.qatar.georgetown.edu
X-WR-CALDESC:Events for Center for International and Regional Studies
REFRESH-INTERVAL;VALUE=DURATION:PT1H
X-Robots-Tag:noindex
X-PUBLISHED-TTL:PT1H
BEGIN:VTIMEZONE
TZID:Europe/Moscow
BEGIN:DAYLIGHT
TZOFFSETFROM:+0300
TZOFFSETTO:+0400
TZNAME:MSD
DTSTART:20060325T230000
END:DAYLIGHT
BEGIN:STANDARD
TZOFFSETFROM:+0400
TZOFFSETTO:+0300
TZNAME:MSK
DTSTART:20061028T230000
END:STANDARD
BEGIN:DAYLIGHT
TZOFFSETFROM:+0300
TZOFFSETTO:+0400
TZNAME:MSD
DTSTART:20070324T230000
END:DAYLIGHT
BEGIN:STANDARD
TZOFFSETFROM:+0400
TZOFFSETTO:+0300
TZNAME:MSK
DTSTART:20071027T230000
END:STANDARD
BEGIN:DAYLIGHT
TZOFFSETFROM:+0300
TZOFFSETTO:+0400
TZNAME:MSD
DTSTART:20080329T230000
END:DAYLIGHT
BEGIN:STANDARD
TZOFFSETFROM:+0400
TZOFFSETTO:+0300
TZNAME:MSK
DTSTART:20081025T230000
END:STANDARD
END:VTIMEZONE
BEGIN:VEVENT
DTSTART;TZID=Europe/Moscow:20071024T080000
DTEND;TZID=Europe/Moscow:20071024T180000
DTSTAMP:20260423T132010
CREATED:20150617T183402Z
LAST-MODIFIED:20240314T115654Z
UID:10001275-1193212800-1193248800@cirs.qatar.georgetown.edu
SUMMARY:America and the Middle East after the Bush Presidency: the View from the Outside
DESCRIPTION:On October 24\, 2007\, in conjunction with Georgetown University’s Institute for the Study of Democracy\, CIRS hosted a conference involving key members of the America’s Role in the World Working Group — including Co-Chairs Thomas Pickering (former US Ambassador to the UN) and Chester Crocker (former US Assistant Secretary of State for African Affairs). \n\nA day earlier\, on October\, 23\, 2007\, CIRS and ISD hosted a private seminar of the working group members and prominent scholars and observers of US foreign policy from across the Middle East\, Africa\, Europe\, and East Asia. \n\nBeginning in the Fall of 2006\, Georgetown University’s Institute for the Study of Diplomacy (ISD) undertook a major scholarly initiative to examine the role and nature of American foreign policy in the coming years – The America’s Role in the World Working Group. More specifically\, the ISD has sought to identify the geopolitical challenges that a new administration—Democrat or Republican—could face beginning in 2009\, and also to define the central foreign policy choices and responses that are likely to be available. The goal is not to offer specific policy prescriptions but to provide the candidates with a comprehensive agenda of issues that could require attention and on which they should be forming views and taking positions. A working group comprised of approximately fifty-five experts on American foreign policy has been assembled to discuss and deliberate the topic.  \n\nThe following are the participants and their presentations for the October 24th conference: \n\nKeynote Speech: Thomas Pickering\, Chairman of the Board\, Institute for the Study of Diplomacy (ISD)\, Georgetown University.  \n\nPanel I: The United States and the Middle East after the Bush Presidency  \n\nChair: Jim Seevers\, Georgetown University  \n\nCasimir Yost\, Georgetown University 	America and the World after the Bush Presidency Chan Heng Chee\, Singapore Ambassador to the United States 	America and Its Allies after the Bush Presidency Jeremy Greenstock\, Director of the Ditchley Foundation 	America and the Middle East in the Post-Iraq Invasion Era Chester Crocker\, Georgetown University 	American Foreign Policy-Making During & After the Bush Presidency 	 \n\nPanel II: America’s Role in the Middle East  \n\nChair: Mehran Kamrava\, Georgetown University School of Foreign Service in Qatar  \n\nJaafar Abbas\, Al Jazeera English 	Al Jazeera and US Foreign Policy: An Insider’s View Mehran Kamrava\, Georgetown University School of Foreign Service in Qatar Eldad Pardo\, Hebrew University 	US-Israeli Relations: The View from Jerusalem Steven Wright\, Qatar University	The United States and the Gulf: The View from the Gulf Thomas Pickering\, Chairman of the Board\, ISD\, Georgetown University 	Keynote Speech
URL:https://cirs.qatar.georgetown.edu/event/america-and-middle-east-after-bush-presidency-view-outside/
CATEGORIES:American Studies,Dialogue Series,Panels,Regional Studies
ATTACH;FMTTYPE=image/jpeg:https://cirs.qatar.georgetown.edu/wp-content/uploads/sites/3/2015/06/events_21981_20131_1414918082-3.jpg
END:VEVENT
END:VCALENDAR