BEGIN:VCALENDAR
VERSION:2.0
PRODID:-//Center for International and Regional Studies - ECPv6.15.15//NONSGML v1.0//EN
CALSCALE:GREGORIAN
METHOD:PUBLISH
X-WR-CALNAME:Center for International and Regional Studies
X-ORIGINAL-URL:https://cirs.qatar.georgetown.edu
X-WR-CALDESC:Events for Center for International and Regional Studies
REFRESH-INTERVAL;VALUE=DURATION:PT1H
X-Robots-Tag:noindex
X-PUBLISHED-TTL:PT1H
BEGIN:VTIMEZONE
TZID:Europe/Moscow
BEGIN:DAYLIGHT
TZOFFSETFROM:+0300
TZOFFSETTO:+0400
TZNAME:MSD
DTSTART:20060325T230000
END:DAYLIGHT
BEGIN:STANDARD
TZOFFSETFROM:+0400
TZOFFSETTO:+0300
TZNAME:MSK
DTSTART:20061028T230000
END:STANDARD
BEGIN:DAYLIGHT
TZOFFSETFROM:+0300
TZOFFSETTO:+0400
TZNAME:MSD
DTSTART:20070324T230000
END:DAYLIGHT
BEGIN:STANDARD
TZOFFSETFROM:+0400
TZOFFSETTO:+0300
TZNAME:MSK
DTSTART:20071027T230000
END:STANDARD
BEGIN:DAYLIGHT
TZOFFSETFROM:+0300
TZOFFSETTO:+0400
TZNAME:MSD
DTSTART:20080329T230000
END:DAYLIGHT
BEGIN:STANDARD
TZOFFSETFROM:+0400
TZOFFSETTO:+0300
TZNAME:MSK
DTSTART:20081025T230000
END:STANDARD
END:VTIMEZONE
BEGIN:VEVENT
DTSTART;TZID=Europe/Moscow:20071023T080000
DTEND;TZID=Europe/Moscow:20071023T180000
DTSTAMP:20260423T040001
CREATED:20141027T074538Z
LAST-MODIFIED:20240314T115659Z
UID:10001024-1193126400-1193162400@cirs.qatar.georgetown.edu
SUMMARY:America's Role in the World
DESCRIPTION:On October 23\, 2007\, the Center for International and Regional Studies and the Institute for the Study of Democracy hosted a private seminar of the working group members and prominent scholars and observers of US foreign policy from across the Middle East\, Africa\, Europe\, and East Asia. \n \n \nBeginning in the Fall of 2006\, Georgetown University’s Institute for the Study of Diplomacy (ISD) undertook a major scholarly initiative to examine the role and nature of American foreign policy in the coming years – The America’s Role in the World Working Group. More specifically\, the ISD has sought to identify the geopolitical challenges that a new administration—Democrat or Republican—could face beginning in 2009\, and also to define the central foreign policy choices and responses that are likely to be available. The goal is not to offer specific policy prescriptions but to provide the candidates with a comprehensive agenda of issues that could require attention and on which they should be forming views and taking positions. A working group comprised of approximately fifty-five experts on American foreign policy has been assembled to discuss and deliberate the topic. \n \n \nThe following day\, on October 24\, 2007\, in addition to a group of invited scholars\, the working group participants delivered their findings in a public conference on the topic of America and the Middle East after the Bush Presidency: the View from the Outside. \n \n \nThe following are the participants that took part in the working group: \n \n \n\nFarid Abboud\, Ambassador of Lebanon to Tunisia \nGilles Andreani\, Conseiller Maitre\, Cour de Comptes \nHabib Ben Yahia\, Secretary General\, Arab Maghreb Union \nChan Heng Chee\, Ambassador of Singapore to the United States \nRadhika Coomaraswamy\, UN Secretary-General’s Special Representative for Children and Armed Conflict \nChester A. Crocker\, Institute for the Study of Diplomacy – Georgetown University\nÁlvaro de Soto\, Former UN Special Coordinator for the Middle East Peace Process \nJeremy Greenstock\, Director of the Ditchley Foundation \nHan Sung-Joo\, President of Korea University \nMehran Kamrava\, Director\, Center for International and Regional Studies \nZyad Limam\, CEO\, AM International\, France \nOsman Faruk Logoglu\, President\, Center for Eurasian Strategic Studies \nSheikha Abdulla Al-Misnad\, President\, Qatar University \nThomas R. Pickering\, Chairman of the Board\, Institute for the Study of Diplomacy \nAhmed Rashid\, Journalist\, Pakistan \nJames Reardon-Anderson\, Dean\, School of Foreign Service in Qatar \nJames Seevers\, Professor\, Institute for the Study of Diplomacy – Georgetown University\nAmira Sonbol\, Professor\, Georgetown University School of Foreign Service in Qatar \nCasimir A. Yost\, Institute for the Study of Diplomacy – Georgetown University \nVahan Zanoyan\, PFC Energy International 
URL:https://cirs.qatar.georgetown.edu/event/americas-role-world/
CATEGORIES:American Studies,Dialogue Series,Regional Studies
ATTACH;FMTTYPE=image/jpeg:https://cirs.qatar.georgetown.edu/wp-content/uploads/sites/3/2014/10/events_20961_20156_1414395938-1.jpg
END:VEVENT
END:VCALENDAR