BEGIN:VCALENDAR
VERSION:2.0
PRODID:-//Center for International and Regional Studies - ECPv6.15.15//NONSGML v1.0//EN
CALSCALE:GREGORIAN
METHOD:PUBLISH
X-WR-CALNAME:Center for International and Regional Studies
X-ORIGINAL-URL:https://cirs.qatar.georgetown.edu
X-WR-CALDESC:Events for Center for International and Regional Studies
REFRESH-INTERVAL;VALUE=DURATION:PT1H
X-Robots-Tag:noindex
X-PUBLISHED-TTL:PT1H
BEGIN:VTIMEZONE
TZID:Europe/Moscow
BEGIN:DAYLIGHT
TZOFFSETFROM:+0300
TZOFFSETTO:+0400
TZNAME:MSD
DTSTART:20080329T230000
END:DAYLIGHT
BEGIN:STANDARD
TZOFFSETFROM:+0400
TZOFFSETTO:+0300
TZNAME:MSK
DTSTART:20081025T230000
END:STANDARD
BEGIN:DAYLIGHT
TZOFFSETFROM:+0300
TZOFFSETTO:+0400
TZNAME:MSD
DTSTART:20090328T230000
END:DAYLIGHT
BEGIN:STANDARD
TZOFFSETFROM:+0400
TZOFFSETTO:+0300
TZNAME:MSK
DTSTART:20091024T230000
END:STANDARD
BEGIN:DAYLIGHT
TZOFFSETFROM:+0300
TZOFFSETTO:+0400
TZNAME:MSD
DTSTART:20100327T230000
END:DAYLIGHT
BEGIN:STANDARD
TZOFFSETFROM:+0400
TZOFFSETTO:+0300
TZNAME:MSK
DTSTART:20101030T230000
END:STANDARD
END:VTIMEZONE
BEGIN:VEVENT
DTSTART;TZID=Europe/Moscow:20090108T080000
DTEND;TZID=Europe/Moscow:20090109T180000
DTSTAMP:20260420T214649
CREATED:20150603T082057Z
LAST-MODIFIED:20210524T092144Z
UID:10001109-1231401600-1231524000@cirs.qatar.georgetown.edu
SUMMARY:علاقات الخليج الدولية، الجلسة الثانية
DESCRIPTION:عقد مركز الدراسات الدولية والإقليمية الجلسة الثانية لمجموعة العمل يومي  8، 9  يناير 2009، ويأتي هذا الاجتماع كجزء من مبادرة بحثية لمدة سنة كاملة بدأت مع الاجتماع الأول لمجموعة العمل في يونيو 2008 والتي ركزت على تحليل العديد من الجوانب الأساسية للعلاقات الدولية في الخليج من زوايا مختلفة. ودعا مركز الدراسات الدولية والإقليمية  مجموعة أساسية من الباحثين المتميزين في دراسات الخليج إلى الدوحة لحضور اجتماعات مجموعة العمل والمساهمة بفصول فردية في كتاب بعنوان السياسة الدولية في الخليج الفارسي (مطبعة جامعة سيراكيوز، 2011). يغطي الكتاب موضوعات مثل تاريخ مشيخات الخليج، استراتيجيات أمن الخليج، والإصلاح السياسي في المنطقة، وفي الوقت نفسه، دعا مركز الدراسات الدولية والإقليمية  العديد من الخبراء الآخرين في هذا الميدان للقيام بالمناقشة وتقديم المشورة الناقدة،  وإثراء الموضوعات قيد البحث والدراسة. \n \n \nيتطرق هذا الكتاب إلى آفاق جديدة ويسهم إلى حد كبير في دراسات العلاقات الدولية لمنطقة الشرق الأوسط عموما ومنطقة الخليج على وجه الخصوص، وستكون له فائدة كبيرة للأكاديميين والباحثين المتخصصين في منطقة الخليج والشرق الأوسط، وكذلك الممارسين وصناع السياسات، والطلاب، والقراء المهتمين. \n \n \nالمشاركون في مجموعة عمل  علاقات الخليج الدولية:\n \n\nمحمد أيوب، جامعة ولاية ميشيغان\nدانيال بايمان، جامعة جورجتاون\nغريغوري غوز، جامعة فيرمونت\nن. جاناردهان، محلل سياسي، الشئون الخليجية الأسيوية، الإمارات العربية المتحدة\nمهران كامروا، جامعة جورجتاون\nرامي خوري، الجامعة الأميركية في بيروت\nجوزيف كوستنر، جامعة تل أبيب\nفريد لوسون، كلية ميلز\nكاتيا نيتهامر، جامعة جورجتاون\nجيرد نونمان، جامعة اكستر\nجيمس أونيلي، جامعة اكستر\nج. إ.  بيترسون، جامعة أريزونا\nلورنس بوتر، جامعة كولومبيا\nبول سالم، مركز كارنيغي للشرق الأوسط\nكريستيان كوتس أولريشسين كلية لندن للاقتصاد والعلوم السياسية\nروبرت وريزينج، جامعة جورجتاون\nستيفن رايت، جامعة قطر\nعبيد يونسي، معهد راند -قطر للسياسات\n\n \nمقال بقلم: سوزي ميرغاني، منسق منشورات مركز الدراسات الدولية والإقليمية
URL:https://cirs.qatar.georgetown.edu/event/%d8%b9%d9%84%d8%a7%d9%82%d8%a7%d8%aa-%d8%a7%d9%84%d8%ae%d9%84%d9%8a%d8%ac-%d8%a7%d9%84%d8%af%d9%88%d9%84%d9%8a%d8%a9%d8%8c-%d8%a7%d9%84%d8%ac%d9%84%d8%b3%d8%a9-%d8%a7%d9%84%d8%ab%d8%a7%d9%86%d9%8a/
ATTACH;FMTTYPE=image/jpeg:https://cirs.qatar.georgetown.edu/wp-content/uploads/sites/3/2015/06/events_21101_20181_1414419019-1.jpg
END:VEVENT
BEGIN:VEVENT
DTSTART;TZID=Europe/Moscow:20090118T080000
DTEND;TZID=Europe/Moscow:20090118T180000
DTSTAMP:20260420T214649
CREATED:20150615T092804Z
LAST-MODIFIED:20210524T092144Z
UID:10001240-1232265600-1232301600@cirs.qatar.georgetown.edu
SUMMARY:كاتيا نيتهامر في محاضرة عن الإصلاح السياسي والهويات الطائفية في البحرين
DESCRIPTION:بدأ مركز الدراسات الدولية والإقليمية في 18 يناير 2009، الفصل الدراسي الربيعي بمحاضرة ضمن سلسلة الحوارات الشهرية تحت عنوان: “الديمقراطيون والمستبدون، والشيعة والسنة: الإصلاح السياسي والهويات الطائفية في البحرين”. ألقت المحاضرة زميل ما بعد الدكتوراه كاتيا نيتهامر. \n \n \nتعتبر محاضرة نيتهامر جزءاً من دراسة أكبر تم إجراؤها خلال الأبحاث التي قامت بها لنيل شهادة الدكتوراه حيث عملت على تحليل الاختلافات في الأهداف والاستراتيجيات والسلوكيات بين التنظيمات السياسية الشيعية والسنية في البحرين. على هذا النحو، تقول نيتهامر إنها “تسلط الضوء على العلاقة بين الجهات الإسلامية الفاعلة والإصلاح السياسي”. أجرت نيتهامر أعمالاً ميدانية واسعة النطاق في البحرين، خلال الفترة التي كانت تجري فيها مقابلات مع النشطاء السياسيين والدينيين من الطائفتين الشيعية والسنية على حد سواء، بالإضافة إلى الوقت الذي أمضته داخل البرلمان البحريني. تقول نيتهامر إنها شهدت خلال تلك الزيارات “مشاركة البرلمانيين في أعمال خطيرة لإثارة الطائفية وأحياناً نشوب مشاجرات بين النواب إثر مناقشات حول الأحداث في العراق”. \n \n \nتعتبر دراسة الجماعات الإسلامية بشكل عام في غاية الأهمية في ظل المناخ السياسي الحالي لدول الخليج نظراً لاعتبار “الجماعات الإسلامية في وقتنا الراهن – وليس فقط في البحرين – أهم القوى الفاعلة إلى جانب النخب الحاكمة” وذلك لأنهم “يتمتعون بقاعدة شعبية اجتماعية عريضة وثمة شبكات دينية كبيرة تحت تصرفهم”. أشارت نيتهامر أن الجماعات التي تناولتها في بحثها هي منظمات قانونية تسعى لتعزيز أهدافها عبر وسائل لا عنفية. \n \n \nسعت نيتهامر من خلال محاضرتها إلى الكشف عن اثنين من الافتراضات الرئيسية التي ثؤثر حالياً في دراسات العلوم الإسلامية. الافتراض الأول هو أن الأحزاب الإسلامية تشكل شراكة طبيعية مع أفكار الإصلاح والعدالة في حين تتمحور الفكرة الثانية حول فرضية أن الأحزاب الإسلامية سوف تفقد أي توجه متطرف وتصبح أكثر ديمقراطية إذا ما انخرطت في المشاركة البرلمانية بجدية. \n \n \nوقد أثبتت صحة هذه الافتراضات في بعض دول الشرق الأوسط، إلا أن نيتهامر ترى أن الوضع في البحرين كان أكثر تعقيداً، فنظراً لأن أحزاباً قد رفضت المشاركة في الانتخابات – وهي الأحزاب الإسلامية الشيعية – التي نادت بالمزيد الإصلاح الديمقراطي، وأحزاباً أخرى ساهمت في الانتخابات البرلمانية بكل استطاعتها – وهي الأحزاب الإسلامية السنية – التي أظهرت اهتماماً أكبر بدعم الحكم الاستبدادي، فإن بحث عوامل أخرى قد يكون مفيداً في تفسير الذهنية المعتدلة الإصلاحية. \n \n \nترى نيتهامر أن أحد الأسباب الذي يجعل البحرين لا تتلاءم مع إطار عمل هذه الفرضيات هو التفتيت الطائفي والعرقي السائد فيها، ما أوجد مجموعات مهيمنة وأخرى مهمشة. بالتالي، فإن المواقف الاجتماعية والاقتصادية للإسلاميين في مواجهة النخبة الحاكمة هي ما يحدد أهدافها واستراتيجياتها السياسية إلى حد أكبر من ميولها الأيديولوجية. تشير نيتهامر إلى أن هذا قد يكون الحال أيضاً في مجتمعات مجزأة أخرى في الشرق الأوسط. \n \n \nاختتمت نيتهامر بالقول: تشير هذه التجارب من البحرين إلى أن “الإسلاميين عندما يمثلون مجموعة طائفية مهيمنة، فهم يرفضون الإصلاحات التي من شأنها تعزيز التمثيل السياسي والمشاركة. وعندما يمثلون الفئات المهمشة سياسياً، يقومون بتأييد هذه الإصلاحات”. بعبارة أخرى، رأت نيتهامر أن سلوك الجهات السياسية الإسلامية الفاعلة لا يختلف عن سلوك نظيرتها العلمانية. \n \n \nالتحقت نيتهامر بمركز الدراسات الدولية والإقليمية في العام الدراسي 2008-2009. وأمضت الزمالة في إطار المبادرات البحثية والمنح الدراسية التي نظمها مركز الدراسات الدولية والإقليمية، وشاركت في ثلاثة مشاريع رئيسية. \n \n \nالمقال بقلم: سوزي ميرغاني، مدير ومحرر المطبوعات في مركز الدراسات الدولية والإقليمية.
URL:https://cirs.qatar.georgetown.edu/event/%d9%83%d8%a7%d8%aa%d9%8a%d8%a7-%d9%86%d9%8a%d8%aa%d9%87%d8%a7%d9%85%d8%b1-%d9%81%d9%8a-%d9%85%d8%ad%d8%a7%d8%b6%d8%b1%d8%a9-%d8%b9%d9%86-%d8%a7%d9%84%d8%a5%d8%b5%d9%84%d8%a7%d8%ad-%d8%a7%d9%84%d8%b3/
ATTACH;FMTTYPE=image/jpeg:https://cirs.qatar.georgetown.edu/wp-content/uploads/sites/3/2015/06/events_20786_19851_1414313129-1.jpg
END:VEVENT
BEGIN:VEVENT
DTSTART;TZID=Europe/Moscow:20090119T080000
DTEND;TZID=Europe/Moscow:20090119T180000
DTSTAMP:20260420T214649
CREATED:20150615T092128Z
LAST-MODIFIED:20210524T092143Z
UID:10001238-1232352000-1232388000@cirs.qatar.georgetown.edu
SUMMARY:الانتحاريات في العراق في محاضرة لمنى الطحاوي
DESCRIPTION:تلبية لدعوة مركز الدراسات الدولية والإقليمية، حضرت الصحفية وكاتبة مقالات الرأي لإلقاء محاضرة الغداء في حرم كلية الشؤون الدولية في قطر حول موضوع: “الانتحاريات في العراق”. يذكر أن الطحاوي هي كاتبة صحفية ومتحدثة جماهيرية عالمية في قضايا العرب والإسلام، وقد حازت العديد من الجوائز. نشرت لها مقالات رأي بشكل متكرر في صحف انترناشونال هيرالد تريبيون، وواشنطن بوست، والشرق الأوسط العربية، وصحيفة العرب القطرية.   \n \n \nبدأت الطحاوي المحاضرة بالإشارة إلى تحولها من صحفيية معنية بالحفاظ على التوازن والموضوعية لشخص مجبر على التحدث ككاتب رأي لا كأستاذ جامعي محايد في مجموعة متنوعة من القضايا التي تؤثر على المسلمين. تقول الطحاوي، إن ذلك كان نتيجة للتغير في المناخات السياسية في جميع أنحاء العالم بعد هجمات 11 سبتمبر 2001. فبحسب الطحاوي، يتمثل الدافع خلف الكثير من أعمالها بموقفها الشخصي كمسلمة مدافعة عن حقوق المرأة، ما يعد هوية لا يتم منحها المجال دوماً للتعبير عن رأيها. بوصفها مسلمة مقيمة في الولايات المتحدة، تشعر الطحاوي أن ما من تمثيل لآرائها، وهذا ما شكل السياق الذي جمع كتاباتها وخطبها. أما بالنسبة لموضوع الانتحاريات، فتقول الطحاوي إنه “موضوع آسر للغاية، ومثير للقلق في الوقت نفسه”. \n \n \nلدحض أسطورة أن فكرة الانتحاريات هي تجسيد لأيديولوجية جديدة خاصة بالتطرف الإسلامي والشرق الأوسط، أشارت الطحاوي إلى الأبحاث التي أجريت عام 1992 من قبل ايلين ماكدونالد أثناء التحضير لكتابها: أطلق النار على النساء أولاً. حيث مثل هذا العنوان توجيهات القوة الأمنية الألمانية الغربية التي طلبت إطلاق النار على النساء أولاً عند دخول أحد معاقل الجيش الأحمر، نظراً لأن المقاتلات الإناث أبدين ميلاً شديداً للعدوانية. يوثق الكتاب حالات متنوعة من مشاركة المرأة في أعمال التطرف والعنف في منظمات مثل حركة الباسك الانفصالية، والانفصاليين في حزب العمال الكردستاني الكردي في تركيا، ونمور التاميل، وعصابة بادر ماينهوف، ومنظمة التحرير الفلسطينية، كل ذلك كان موجوداً قبل فترة طويلة من الوقت الذي بدأت تعلو فيه الأصوات المتذرعة بأن العمليات الانتحارية هي صنيعة جماعات معينة من المتطرفين الإسلاميين. لكن “ما يميز ما يحدث في العراق من هذه الأمثلة” بحسب الطحاوي، “أن تلك المجموعات كانت علمانية، ومناضلة، وإرهابية” في حين يشكل التطرف الديني محور عمل الجماعات الموجودة في العراق. \n \n \nأما السؤال الذي تطرحه الطحاوي فهو: “ما هو الدافع الذي يحرك امرأة للانضمام إلى مجموعة عنف أو لتصبح إرهابية؟” وقالت: “إن الفكرة المتأصلة في هذا السؤال هي أن المرأة مختلفة عن الرجل عند اختيار الانضمام إلى هذه الجماعات”. لكن الباحثين في الموضوع قد وجدوا أن الدوافع الأيديولوجية والسياسية التي تولد التطرف تكاد تكون واحدة لدى كل من الرجال والنساء. \n \n \nتناولت الطحاوي العراق كحالة للدراسة، وقدمت عدداً من الإحصاءات المتعلقة بالانتحاريات، حيث ذكرت أنه “وفقاً لإحصاءات الولايات المتحدة العسكرية، منذ الغزو في مارس عام 2003 وحتى نهاية العام الماضي، شهد العراق 57 عملية انتحارية قامت بها نساء – بما في ذلك النساء اللاتي سلمن أنفسهن – وقد تمكن من قتل ما مجموعه 370 شخصاً وإصابة 650 آخرين”. إن ما يبعث على القلق هو معدل الهجمات الذي قد تضاعفت ثلاث مرات خلال عام 2008. يعزى السبب وراء الزيادة الحادة في استخدام الانتحاريات بالإجراءات الأمنية المتزايدة في جميع أنحاء العراق منذ زيادة عدد القوات الامريكية، حيث يمكن للمرأة اليوم الوصول إلى أماكن لا يستطيع الرجل الوصول إليها. \n \n \nما ينذر بالخطر أيضاً، هي الطبيعة المتفاوتة بين الإناث لدى تنفيذ هذا العنف المتطرف في العراق. فإحدى الانتحاريات كانت فتاة لم تبلغ 13، وأخرى كانت ترتدي زي رجل، في حين نرى حالة أخرى لامرأة متزوجة وأم لطفلين، ما يمكن اعتباره خصائص غير مألوفة للمتطرف، ولا تندرج ضمن المفهوم الشائع لشخصيته. فعادة ما يتم تنفيذ مثل هذه الأعمال من قبل نساء عازبات أو مطلقات أو أرامل فقدن أفراداً من أسرهن خلال فترة معينة وبالتالي فقدن مصادر الدخل الأساسية بالنسبة لهن. \n \n \nتم وصف عنف المتطرفين، المتمثل بالتفجيرات الانتحارية، كعمل ناتج عن اليأس وسلاح خلال الصراع السياسي والأيديولوجي و”المقاومة ضد قوات الاحتلال” وقوى الظلم. بداية، تم التعامل مع التفجيرات الانتحارية في العراق في كمقاومة سياسية وأيديولوجية لقوات الاحتلال، لكن هذه الأعمال المتطرفة سرعان ما اتسمت بطابع ديني وطائفي بشكل متزايد. تختتم الطحاوي حديثها بالقول إن المفارقة أن هذه العمليات الاستشهادية المدعومة دينياً وأيديولوجياً في العراق وباكستان وتركيا ومصر قد أدت إلى مقتل المزيد من المسلمين بأيدي مسلمة أكثر مما أدت إلى قتل الأعداء المفترضين أو المحتلين أو الكفار. بل إن معظم ضحايا التفجيرات الانتحارية كانوا حجاجاً شيعة متدينيين ولم يشكلوا أي أهداف عسكرية شرعية. \n \n \n المقال بقلم: سوزي ميرغاني، مدير ومحرر المطبوعات في مركز الدراسات الدولية والإقليمية.
URL:https://cirs.qatar.georgetown.edu/event/%d8%a7%d9%84%d8%a7%d9%86%d8%aa%d8%ad%d8%a7%d8%b1%d9%8a%d8%a7%d8%aa-%d9%81%d9%8a-%d8%a7%d9%84%d8%b9%d8%b1%d8%a7%d9%82-%d9%81%d9%8a-%d9%85%d8%ad%d8%a7%d8%b6%d8%b1%d8%a9-%d9%84%d9%85%d9%86%d9%89-%d8%a7/
ATTACH;FMTTYPE=image/jpeg:https://cirs.qatar.georgetown.edu/wp-content/uploads/sites/3/2015/06/events_22036_20066_1414918892-1.jpg
END:VEVENT
BEGIN:VEVENT
DTSTART;TZID=Europe/Moscow:20090126T080000
DTEND;TZID=Europe/Moscow:20090126T180000
DTSTAMP:20260420T214649
CREATED:20150615T091438Z
LAST-MODIFIED:20210524T092143Z
UID:10001236-1232956800-1232992800@cirs.qatar.georgetown.edu
SUMMARY:سيد حسين نصر في محاضرة عن الإسلام وحماية البيئة الطبيعية
DESCRIPTION:بدأ مركز الدراسات الدولية والإقليمية بتاريخ 26 يناير 2009 فصله الدراسي الربيعي بسلسلة متميزة من المحاضرات بدأها بكلمة ألقاها سيد حسين نصر، أحد أهم الباحثين في الدراسات الإسلامية والدينية والمقارنة في العالم. تم تقديم سيد حسين للحضور من قبل محمد السديري طالب السنة الثانية في كلية الشؤون الدولية – قطر ورئيس نادي مسرح الأزرق والرمادي. \n \n \nأوضحت محاضرة نصر التي ألقيت في فندق الشرق في الدوحة، المعاناة البيئية اليومية ضمن إطار إسلامي روحي محكم، وقد أكد نصر على هذا الموضوع بوصفه “ذا أهمية بالغة” لأن الناس قد لجؤوا إلى التعتيم على المشكلة دون إيجاد حل فعلي لها. مع ذلك فإن حل مشكلة تدمير البيئة “لن يتم من خلال مستحضرات التجميل”، لكنه “يتطلب تغييراً في أسلوب حياتنا”. \n \n \nأشار نصر إلى سخرية السيطرة البشرية على الطبيعة من خلال التحذير من أننا “ندمر أنفسنا في سبيل السيطرة على الطبيعة”. وأضاف أنه لا يجب أن توجد قضية أهم من الأزمة البيئية على جدول أعمال العالم، فكل المشاكل المحيطة الأخرى سياسية واقتصادية تبدو ضئيلة مقارنة مع الأزمة البيئية. وفي حال استمرت مشكلة التدهور بمعدلاتها الحالي، فلن يكون هناك أي مشكلة أخرى سواها. \n \n \nصرح نصر أن المشكلة الرئيسية لدى المسلمين تتمثل بأنهم على الرغم من شغفهم بأداء واجباتهم الدينية، إلا أنهم لا يترجمون هذا الشغف إلى وعي أكبر بالبيئة المحيطة بهم. ما ينتج ما أسماه نصر “قطيعة” بين قوة إيمان المسلمين وطريقة تفاعلهم ومعاملاتهم الحياتية اليومية، التي لا ترقى إلى مستوى المبادئ الإسلامية. وقد رجح نصر أن السبب وراء ذلك هو بروز العلمية كأكثر المبادئ أهمية في العالم الحديث. \n \n \nبداية، أصبحت العلمية مفهوماً شعبياً في العالم الإسلامي كوسيلة لمكافحة الاستعمار وإنقاذ الإسلام من هجوم الغرب، وقد تم ذلك عبر إتقان إنتاجات مدارس الفكر الغربية ودمجها مع المبادئ الإسلامية. خلال هذه الفترة، اتبع العالم الإسلامي الافتراضات الأساسية للفلسفة الوضعية، وألقيت “العلوم الإنسانية جانباً لكونها غير مهمة” و “لم يكن ثمة مقاومة فكرية” للغرب. \n \n \nلقد أصبح العالم الإسلامي مستعبداً لتطلعات تكنولوجيا الغرب، وقد أشار نصر إلى وجود قاسم واحد مشترك وهو عبادة المسلمين للعلم والتكنولوجيا الحديثة، على اعتبار أن الإسلام يشجع على ذلك، وهو اعتبار خاطئ، ليس ذلك وحسب، بل اعتقد هؤلاء المسلمون مدعو الحداثة أن الغرب سوف يهتم بجميع المشاكل الناتجة عن التطورات التكنولوجية. \n \n \nيرى نصر أن الحل هو أن نأخذ بعين الاعتبار أن الله هو الطبيعة وهو البيئة. فالإسلام جزء لا يتجزأ من البيئة، نظراً لكونها الرابط بين الإنسان والإله. يقول نصر إن التعاليم الدينية هي أمر بالغ الأهمية لنجاة الإنسان لأنها تعلم الناس كيف يحافظون على احترامهم ضمن بيئاتهم الطبيعية، وكيف يكرمون كل مخلوق حي من مخلوقات الله، التي نشكل منها نوعاً واحداً فقط. يؤكد نصر أن “لكل مخلوق حقوقه المستقلة عن حقوق البشر”، ولا يمكننا التغاضي عن ذلك. يرى نصر أنه للتغلب على الأزمة الحالية يجب علينا اعتبار أن الطبيعة مقدسة. \n \n \nاختتم نصر حديثه بالإشارة إلى المهمة الهامة الملقاة على عاتق سكان منطقة الخليج والمتمثلة بالمحافظة على الشعاب المرجانية المهددة بالانقراض في المنطقة. فالشعاب المرجانية هي واحدة من أكثر أشكال الحياة البيئية هشاشة في العالم، وهي أيضاً من أكثر الأدوات فاعلية في تغذية البيئة. \n \n \nكان نصر قد دعي في وقت سابق من اليوم، لزيارة الحرم الجامعي لكلية الشؤون الدولية في قطر، والتحدث في اجتماع غداء غير رسمي مع أعضاء الهيئة التدريسية والموظفين في الكلية. \n \n \n  \n \n \nالملخص بقلم: أسماء العدوي، متدربة في مركز الدراسات الدولية والإقليمية، وسوزي ميرغاني، مدير ومحرر المطبوعات في مركز الدراسات الدولية والإقليمية. \n \n \nسيد حسين نصر، أستاذ الدراسات الإسلامية في جامعة جورج واشنطن، في العاصمة واشنطن، وهو من أهم وأبرز الشخصيات التي تناولت الدراسات الإسلامية والدينية والمقارنة في العالم اليوم. له ما يزيد عن خمسين كتاباً وخمس مائة مادة ترجمت إلى عدة لغات إسلامية وأوروبية وآسيوية. يذكر أن الأستاذ نصر شخصية فكرية معروفة وتحظى بتقدير العالمين الغربي والإسلامي.
URL:https://cirs.qatar.georgetown.edu/event/%d8%b3%d9%8a%d8%af-%d8%ad%d8%b3%d9%8a%d9%86-%d9%86%d8%b5%d8%b1-%d9%81%d9%8a-%d9%85%d8%ad%d8%a7%d8%b6%d8%b1%d8%a9-%d8%b9%d9%86-%d8%a7%d9%84%d8%a5%d8%b3%d9%84%d8%a7%d9%85-%d9%88%d8%ad%d9%85%d8%a7%d9%8a/
ATTACH;FMTTYPE=image/jpeg:https://cirs.qatar.georgetown.edu/wp-content/uploads/sites/3/2015/06/events_20446_16591_1413991138-1.jpg
END:VEVENT
END:VCALENDAR