BEGIN:VCALENDAR
VERSION:2.0
PRODID:-//Center for International and Regional Studies - ECPv6.15.15//NONSGML v1.0//EN
CALSCALE:GREGORIAN
METHOD:PUBLISH
X-ORIGINAL-URL:https://cirs.qatar.georgetown.edu
X-WR-CALDESC:Events for Center for International and Regional Studies
REFRESH-INTERVAL;VALUE=DURATION:PT1H
X-Robots-Tag:noindex
X-PUBLISHED-TTL:PT1H
BEGIN:VTIMEZONE
TZID:Europe/Moscow
BEGIN:DAYLIGHT
TZOFFSETFROM:+0300
TZOFFSETTO:+0400
TZNAME:MSD
DTSTART:20070324T230000
END:DAYLIGHT
BEGIN:STANDARD
TZOFFSETFROM:+0400
TZOFFSETTO:+0300
TZNAME:MSK
DTSTART:20071027T230000
END:STANDARD
BEGIN:DAYLIGHT
TZOFFSETFROM:+0300
TZOFFSETTO:+0400
TZNAME:MSD
DTSTART:20080329T230000
END:DAYLIGHT
BEGIN:STANDARD
TZOFFSETFROM:+0400
TZOFFSETTO:+0300
TZNAME:MSK
DTSTART:20081025T230000
END:STANDARD
BEGIN:DAYLIGHT
TZOFFSETFROM:+0300
TZOFFSETTO:+0400
TZNAME:MSD
DTSTART:20090328T230000
END:DAYLIGHT
BEGIN:STANDARD
TZOFFSETFROM:+0400
TZOFFSETTO:+0300
TZNAME:MSK
DTSTART:20091024T230000
END:STANDARD
END:VTIMEZONE
BEGIN:VEVENT
DTSTART;TZID=Europe/Moscow:20080303T080000
DTEND;TZID=Europe/Moscow:20080303T180000
DTSTAMP:20260421T104344
CREATED:20150615T125012Z
LAST-MODIFIED:20210524T092224Z
UID:10001043-1204531200-1204567200@cirs.qatar.georgetown.edu
SUMMARY:إلزبيتا جوزدزياك في محاضر عن الاتجار بالأطفال في الولايات المتحدة
DESCRIPTION:تلبية لدعوة مركز الدراسات الدولية والإقليمية، حضرت إلزبيتا م. جوزدزياك وهي باحثة بارزة في قضايا الهجرة في معهد دراسات الهجرة الدولية في جامعة جورجتاون، لزيارة حرم كلية الشؤون الدولية في قطر. \n \n \nهدفت زيارة جوزدزياك إلى إقامة علاقات تعاون وأبحاث في المستقبل مع أساتذة كلية الشؤون الدولية في قطر العاملين على قضايا الهجرة. أثناء تواجدها في الدوحة، حلت جوزدزياك ضيفة على سلسلة الحوارات الشهرية التي ينظمها مركز الدراسات الدولية والإقليمية. يذكر أن جوزدزياك هي مدير الأبحاث في معهد دراسات الهجرة الدولية، ورئيس تحرير الهجرة الدولية، وهي مجلة علمية مرموقة مكرسة للبحث وتحليل سياسات القضايا المعاصرة التي تؤثر على الهجرة الدولية. \n \n \nعقد الحوار الشهري في 3 مارس 2008، في مكتبة كلية الشؤون الدولية في قطر، كان عنوان محاضرة جوزدزياك “ليسوا ضحايا بعد الآن: التحديات والمعضلات والفرص المتاحة في دراسة الأطفال المتاجر بهم“، وركزت على قضايا تهريب الأطفال وسوء معاملتهم. حددت جوزدزياك النقاط الرئيسية في مشروعها البحثي الشامل الذي يتناول أوضاع الأطفال المتاجر بهم، وتبحث الدراسة الصدمة التي يعاني منها العديد من الأطفال الذين يتم إغراؤهم لإبعادهم عن أسرهم ومنازلهم، غالباً بحجج واهية ووعود بالسفر إلى مناطق وأماكن أفضل، كما تحلل الدراسة التحديات التي تواجه مقدمي الخدمات في مساعدة الأطفال، وتقيم إمكانية إعادة تأهيل ودمج الأطفال في المجتمع. خلال المحاضرة قدمت جوزدزياك النتائج الرئيسية من دراسة ومناقشة التحديات المنهجية والمفاهيمية ذات الصلة بمجال البحوث مع الأطفال المتاجر بهم. \n \n \nأكدت جوزدزياك على الحاجة إلى بحث علمي معمق بشأن الاتجار بالأطفال وذلك لأن “هناك الكثير من الكتابات العامة حول هذا الموضوع، لكن القليل منها يعطي نتائج كافية تساعد في شرح أو تخفيف حدة الوضع”، ويمكن إيجاد حلول من أجل إعادة التأهيل والوقاية إذا تم إعلام صناع السياسات الحكومية عن هذا الموضوع من خلال الأبحاث المتعمقة والمهتمة فيه. تحدثت جوزدزياك للجمهور عن مصاعب إجراء بحوث حول شؤون حساسة وسرية مثل الاتجار بالأطفال والوصول إليهم، وذكرت أن هذه الدراسة كانت مقررة لمدة سنة أصلاً لكنها طالت لتمتد على فترة عامين، كما واجه الباحثون مجموعة متنوعة من التحديات المتعلقة بتأمين الحصول على الموافقات والأذونات والمنح قبل أن يبدأ المشروع البحثي، وبالتالي فإن ديناميات العمل لأي بحث حول هذا الموضوع تصعب عملية الفهم وتحليل الأوضاع. \n \n \nنظراً لعدم مشروعية الاتجار بالأطفال، فإنه لا يمكن الاقتراب من الأطفال والتحدث معهم إلا بعد أن يتحرروا من محنتهم، لذلك يدور هذا البحث حول عملية إعادة تأهيل الأطفال. ويعتبر الأطفال في مراكز إعادة التأهيل “ضحايا”، ما يعتبر تحدياً أكبر في المحاولة للحصول على إذن لدراسة هؤلاء الناس “المستضعفين”. تصر جوزدزياك أنه لعلاج الأطفال المتاجر بهم على أنهم أشخاص وليسوا ضحايا يجب ألا يعتبروا عاجزين، بدلاً من ذلك، يجب أن يسمح لهم ويتم تشجيعهم ليكونوا هويتهم الخاصة وكيانهم الخاص بهم. \n \n \nتعتبر الهوية الذاتية عنصراً هاماً في عملية إعادة التأهيل لكل طفل تم الاتجار به، لاسيما أن حالة كل طفل تختلف عن الآخر. صحيح أن بعض الأطفال قد أهملوا وتمت معاملتهم بأسوأ السبل الممكنة، ولكن هناك العديد من الأطفال الآخرين الذين لا يعتبرون أنفسهم ضحايا بل يشعرون بأنهم ملتزمون بنوع من الوفاء الثقافي والأسري، وهم يحققون ذلك من خلال العمل في سن مبكرة لإعالة أسرهم، ولهذا السبب يعتبر البحث النقدي والواعي في هذا الموضوع أمراً مهماً، فلا يجب اعتبار أن جميع الأطفال المتاجر بهم يعانون من نفس المأزق. كما يجب أن يساهم البحث في التمييز بين احتياجات كل طفل على حدة. \n \n \nينبغي أن تركز عملية إعادة التأهيل من وجهة النظر هذه على تمكين الأطفال وتعاملهم على أساس النسبية الثقافية كأفراد بدلاً من الاعتماد على نظام موحد ومتجانس يحاكي المثالية الغربية لمعنى الطفل. \n \n \n المقال بقلم: سوزي ميرغاني، مدير ومحرر المطبوعات في مركز الدراسات الدولية والإقليمية.
URL:https://cirs.qatar.georgetown.edu/event/%d8%a5%d9%84%d8%b2%d8%a8%d9%8a%d8%aa%d8%a7-%d8%ac%d9%88%d8%b2%d8%af%d8%b2%d9%8a%d8%a7%d9%83-%d9%81%d9%8a-%d9%85%d8%ad%d8%a7%d8%b6%d8%b1-%d8%b9%d9%86-%d8%a7%d9%84%d8%a7%d8%aa%d8%ac%d8%a7%d8%b1-%d8%a8/
ATTACH;FMTTYPE=image/jpeg:https://cirs.qatar.georgetown.edu/wp-content/uploads/sites/3/2015/06/events_20811_19876_1414316186-1.jpg
END:VEVENT
BEGIN:VEVENT
DTSTART;TZID=Europe/Moscow:20080304T080000
DTEND;TZID=Europe/Moscow:20080304T180000
DTSTAMP:20260421T104344
CREATED:20150615T124529Z
LAST-MODIFIED:20210524T092224Z
UID:10001041-1204617600-1204653600@cirs.qatar.georgetown.edu
SUMMARY:إد حسين في محاضرة عن الحركة الجهادية
DESCRIPTION:زار إد حسين يوم 4 مارس 2008، كلية الشؤون الدولية للقاء طلاب جامعة جورجتاون وإدارة حلقة نقاش غير رسمية معهم. حضر حسين إلى قطر كضيف على عرض مناظرات الدوحة الذي تم تصويره في اليوم السابق للمناظرة بعنوان “هذا المنزل يعتقد أن المسلمين قد فشلوا في مكافحة التطرف”، حيث كان حسين مؤيداً لهذا الطرح.  يذكر أن حسين هو نائب مدير مؤسسة كويليام، وهي منظمة إسلامية ضد التطرف ومؤلف كتاب الإسلامي، الصادر عن منشورات بنغوان عام 2007. \n \n \nناقش حسين كتابه الذي يصف فيه التحاقه ومن ثم تخليه عن الإسلام الراديكالي. انخرط حسين مع الطلاب وأجاب على أسئلتهم حول تجربته بوصفه جهادياً بريطانياً أسبق تمكن من التحرر من التطرف.
URL:https://cirs.qatar.georgetown.edu/event/%d8%a5%d8%af-%d8%ad%d8%b3%d9%8a%d9%86-%d9%81%d9%8a-%d9%85%d8%ad%d8%a7%d8%b6%d8%b1%d8%a9-%d8%b9%d9%86-%d8%a7%d9%84%d8%ad%d8%b1%d9%83%d8%a9-%d8%a7%d9%84%d8%ac%d9%87%d8%a7%d8%af%d9%8a%d8%a9/
ATTACH;FMTTYPE=image/jpeg:https://cirs.qatar.georgetown.edu/wp-content/uploads/sites/3/2015/06/events_20881_45931_1510734087-1.jpg
END:VEVENT
END:VCALENDAR