BEGIN:VCALENDAR
VERSION:2.0
PRODID:-//Center for International and Regional Studies - ECPv6.15.15//NONSGML v1.0//EN
CALSCALE:GREGORIAN
METHOD:PUBLISH
X-WR-CALNAME:Center for International and Regional Studies
X-ORIGINAL-URL:https://cirs.qatar.georgetown.edu
X-WR-CALDESC:Events for Center for International and Regional Studies
REFRESH-INTERVAL;VALUE=DURATION:PT1H
X-Robots-Tag:noindex
X-PUBLISHED-TTL:PT1H
BEGIN:VTIMEZONE
TZID:Europe/Moscow
BEGIN:DAYLIGHT
TZOFFSETFROM:+0300
TZOFFSETTO:+0400
TZNAME:MSD
DTSTART:20070324T230000
END:DAYLIGHT
BEGIN:STANDARD
TZOFFSETFROM:+0400
TZOFFSETTO:+0300
TZNAME:MSK
DTSTART:20071027T230000
END:STANDARD
BEGIN:DAYLIGHT
TZOFFSETFROM:+0300
TZOFFSETTO:+0400
TZNAME:MSD
DTSTART:20080329T230000
END:DAYLIGHT
BEGIN:STANDARD
TZOFFSETFROM:+0400
TZOFFSETTO:+0300
TZNAME:MSK
DTSTART:20081025T230000
END:STANDARD
BEGIN:DAYLIGHT
TZOFFSETFROM:+0300
TZOFFSETTO:+0400
TZNAME:MSD
DTSTART:20090328T230000
END:DAYLIGHT
BEGIN:STANDARD
TZOFFSETFROM:+0400
TZOFFSETTO:+0300
TZNAME:MSK
DTSTART:20091024T230000
END:STANDARD
END:VTIMEZONE
BEGIN:VEVENT
DTSTART;TZID=Europe/Moscow:20080124T080000
DTEND;TZID=Europe/Moscow:20080124T180000
DTSTAMP:20260421T145253
CREATED:20150615T131739Z
LAST-MODIFIED:20210524T092226Z
UID:10001251-1201161600-1201197600@cirs.qatar.georgetown.edu
SUMMARY:أندرو ناتسيوس
DESCRIPTION:رعى مركز الدراسات الدولية والإقليمية بتاريخ 24 يناير 2008، محاضرة متميزة لأندرو ناتسيوس أستاذ الممارسات الدبلوماسية في جامعة جورجتاون والمبعوث الخاص الأمريكي الأسبق لدارفور. أقيمت المحاضرة في فندق قرية الشرق، بحضور خمسين مدعواً، لتناول مأدبة العشاء ومناقشة إحدى أبرز الأزمات في العالم. وفي وقت سابق من اليوم، تحدث ناتسيوس عن السودان في خطاب رئيسي وجهه إلى نحو 350 طالباً من طلاب المدارس الثانوية الذين تجمعوا في حفل افتتاح المؤتمر السنوي للأمم المتحدة برعاية مركز الدراسات الدولية والإقليمية. \n \n \nوفي معرض تعليقه على الأزمة المستمرة في السودان، ذكر ناتسيوس بالتفصيل التوترات المعقدة التي غذت الصراعات العنيفة في منطقة دارفور، وذلك بناء على معرفته المباشرة في السودان والجهات السياسية الفاعلة فيه، بالإضافة إلى العلاقات المتوترة القائمة بين السودانيين من أصول عربية والسودانيين المتحدرين من أصول أفريقية، تطرق نقاش ناتسيوس “إلى سلسلة من القضايا الأقل شهرة، مثل العلاقات المتوترة بين الحكومة المركزية والجنجويد (الميليشيات القبلية). \n \n \nألقى ناتسيوس الضوء على الخطر الحقيقي لانهيار السلطة المركزية في أكبر بلد في أفريقيا ما من شأنه أن يعيد البلاد إلى الحرب بين الشمال والجنوب وهذا ما حدث تقريباً في أكتوبر ونوفمبر من عام 2007. يمثل التطهير العرقي في دارفور جانباً واحداً فقط من أزمة تجاوزت ذلك بكثير، حيث من الممكن أن تؤدي إلى تفكك السودان، دون إغفال ما سيلي ذلك من عواقب سياسية وإنسانية مأساوية لعموم شرق أفريقيا. إلا إذا أدرك المجتمع الدولي خطورة الوضع وهشاشة السلطة المركزية في الخرطوم، وأجبر كل الأطراف السياسية الفاعلة على تغيير مسارها الحالي في العمل، وإلا فمن المرجح أن تنهار الدولة تحت ضغط مختلف القوى المتطرفة في البلاد. \n \n \nذكر ناتسيوس أن الحكومة المركزية في الخرطوم تمكنت من إبعاد العديد من الفئات الاجتماعية السودانية التي لم تكن سياسية في السابق، وكان ذلك من بين أمور أخرى فشلت الخرطوم بالالتزام بها وفقاً لبنود اتفاق السلام الشامل لعام 2005 الذي كان يهدف إلى وضع حد للنزاع المدني طويل الأمد بين الشمال الذي تسكنه أغلبية مسلمة والجنوب المسيحي الغني بالنفط. تيجة لذلك، فإن الصراع الأكثر خطورة في التاريخ السوداني الحديث – الذي خلف ضحايا تقدر بعشرة أضعاف ضحايا أزمة دارفور – لا يزال قضية لم تحل ولا تزال تهدد استقرار البلاد بأسرها. مع ارتفاع مستويات السخط والاستياء في أوساط السكان ووجود نسبة عالية من المسؤولين الحكوميين الذين لا يرغبون في نزع فتيل الوضع الحالي سلمياً خوفاً من انقلاب أو من المثول للمحاكمة بتهم ارتكاب جرائم حرب، تتحول السودان بشكل متزايد إلى دولة غير مستقرة وبالتالي من المتوقع عودة الشمال والجنوب إلى الحرب وتفكك الدولة. \n \n \nلحل الأزمات الحالية ولتجنب التدهور في المستقبل، يقول ناتسيوس إن على المجتمع الدولي أولاً وقبل كل شيء أن يشجع الطرفين على تنفيذ اتفاق السلام الشامل الموافق عليه من قبل جميع الأطراف، ويتوجب تطبيع العلاقات السياسية مع الحكومة السودانية. ونظراً لأن محكمة الجنايات الدولية هي سيف مسلط على المسؤولين السودانيين، فقد أصبحت عائقاً أمام حل النزاع، لهذا السبب، أوصى ناتسيوس المجتمع الدولي بأن يتخلي عن الحق في تقديم المشتبه بهم في ارتكاب جرائم حرب إلى العدالة مقابل الحصول على السلام والاستقرار. وسوف يتعين على الحكومة السودانية من جانبها تقاسم عائدات النفط بشكل عادل، وكبح جماح المتشددين داخل صفوفها، وإعطاء قدر أكبر من الحكم الذاتي الإقليمي لدارفور. تبدو هذه التدابير إلى جانب مع انتخابات حرة ونزيهة ومفتوحة الخيارات الوحيدة القابلة للتطبيق لإنقاذ السودان من التمزق إلى محافظات مختلفة ودفع أزمة دارفور إلى نهايتها. \n \n \nأعد الملخص من قبل هنري لوزيير، المعيد في كلية الشؤون الدولية في جامعة جورجتاون في قطر.
URL:https://cirs.qatar.georgetown.edu/event/%d8%a3%d9%86%d8%af%d8%b1%d9%88-%d9%86%d8%a7%d8%aa%d8%b3%d9%8a%d9%88%d8%b3/
ATTACH;FMTTYPE=image/jpeg:https://cirs.qatar.georgetown.edu/wp-content/uploads/sites/3/2015/06/events_20511_16621_1414054004-1.jpg
END:VEVENT
END:VCALENDAR