BEGIN:VCALENDAR
VERSION:2.0
PRODID:-//Center for International and Regional Studies - ECPv6.15.15//NONSGML v1.0//EN
CALSCALE:GREGORIAN
METHOD:PUBLISH
X-WR-CALNAME:Center for International and Regional Studies
X-ORIGINAL-URL:https://cirs.qatar.georgetown.edu
X-WR-CALDESC:Events for Center for International and Regional Studies
REFRESH-INTERVAL;VALUE=DURATION:PT1H
X-Robots-Tag:noindex
X-PUBLISHED-TTL:PT1H
BEGIN:VTIMEZONE
TZID:Europe/Moscow
BEGIN:DAYLIGHT
TZOFFSETFROM:+0300
TZOFFSETTO:+0400
TZNAME:MSD
DTSTART:20060325T230000
END:DAYLIGHT
BEGIN:STANDARD
TZOFFSETFROM:+0400
TZOFFSETTO:+0300
TZNAME:MSK
DTSTART:20061028T230000
END:STANDARD
BEGIN:DAYLIGHT
TZOFFSETFROM:+0300
TZOFFSETTO:+0400
TZNAME:MSD
DTSTART:20070324T230000
END:DAYLIGHT
BEGIN:STANDARD
TZOFFSETFROM:+0400
TZOFFSETTO:+0300
TZNAME:MSK
DTSTART:20071027T230000
END:STANDARD
BEGIN:DAYLIGHT
TZOFFSETFROM:+0300
TZOFFSETTO:+0400
TZNAME:MSD
DTSTART:20080329T230000
END:DAYLIGHT
BEGIN:STANDARD
TZOFFSETFROM:+0400
TZOFFSETTO:+0300
TZNAME:MSK
DTSTART:20081025T230000
END:STANDARD
END:VTIMEZONE
BEGIN:VEVENT
DTSTART;TZID=Europe/Moscow:20070304T110000
DTEND;TZID=Europe/Moscow:20070308T210000
DTSTAMP:20260424T183249
CREATED:20150615T142048Z
LAST-MODIFIED:20210524T092310Z
UID:10001261-1173006000-1173387600@cirs.qatar.georgetown.edu
SUMMARY:مهرجان الفنون الأمريكية – أسبوع الجاز
DESCRIPTION:برعاية مركز الدراسات الدولية والإقليمية في الدوحة، أقيمت سلسلة من البرامج حول الفنون الأمريكية، كانت بعنوان مهرجان الفنون الأمريكية، وذلك في الفترة الواقعة ما بين 16 فبراير – 8 مارس 2007. وقد نفذ المركز في كلية الشؤون الدولية في جامعة جورجتاون في قطر عدة برامج لمنح دراسية، وبحوث، وتوعية عامة في مجال الشؤون الدولية والإقليمية. ويحافظ مركز الدراسات الدولية والإقليمية على علاقات مع البيئة المحيطة من خلال تقديم العديد من البرامج الثقافية والتعليمية التي تتصل مع كل من السكان المحليين والساحة الدولية الأكبر. \n \n \nتعتبر موسيقى الجاز أحد أهم الإسهامات الأميركية في الموسيقى، وهي من أكثر التعابير المميزة للثقافة الأمريكية في القرن العشرين. يعود أصل موسيقى الجاز إلى سكان غرب أفريقيا والأمريكيين الأفارقة. وقد اندمجت معها لاحقاً مؤثرات لاتينية وأوروبية وغيرها. تظهر موسيقى الجاز التنوع الغني للمجتمع الأمريكي، حيث تتمثل بإيقاعات متأرجحة، مرتجلة الألحان، وصوت حاد يثير حركة عالم حضري وصناعي سريع الخطى. من الصعب تعريف “الجاز”، تماماً كصعوبة فهم جوهر “أمريكا” – مما يجعل هذا المهرجان دعوة للتعامل مع هذه المسألة أكثر منه تذكرة للإجابة على السؤال. \n \n \nتعد فرقة جوليارد جاز فرقة موسيقية كبيرة من مدرسة جوليارد للموسيقى في مدينة نيويورك، وهي مؤلفة من طلاب دراسات عليا وطلاب جامعيين ويديرها فيكتور جوينز، وقد عزفت الفرقة في جميع أنحاء الولايات المتحدة وحول العالم. لقد عزفوا لإيصال هذه الموسيقى إلى الجماهير، وتعليم الطلاب، وتوسيع التمتع بها، وتقديراً لموسيقى الجاز. وفي قطر قدمت الفرقة عروضاً عامة في مسرح قطر الوطني وفي المدينة التعليمية. \n \n \nالسير الذاتية للمشاركين في أسبوع الجاز: \n \n \nأول ظهور لفرقة جوليارد للجاز كان في أكتوبر 2001، ومنذ ذلك الحين، ظهرت الفرقة في أماكن مختلفة في الولايات المتحدة وأوروبا، وأمريكا الوسطى، وأدت أشكالاً مختلفة ومتنوعة من ألوان موسيقى الجاز، من ديوك إلينغتون وهوجي كارمايكل إلى وينتون مارساليس وغيرهم من الملحنين الآخرين في عصرنا هذا. إن عزف موسيقى الجاز من قبل الطلاب أنفسهم غالباً ما يخطف الأضواء في الحفلات. يدير الفرقة فيكتور جوينز، المدير الفني للبرنامج، وعضو هيئة التدريس في ويكليف جوردون. \n \n \nفيكتور جوينز هو المدير الفني لدراسات الجاز في مدرسة جوليارد، وقد عزف مع العديد من فناني الجاز المشهورين، ويمتلك العديد من التسجيلات والموسيقى التصويرية، وهو عضو في مركز وينتون مارساليس وفرقة الجاز في مركز لينكولن، وهو أيضاً مستشار تعليمي لموسيقى الجاز في مركز لينكولن، وقد درس في عدة جامعات منها نيو أورلينز، وفلوريدا لعلوم الزراعة والميكانيك، وجامعة لويولا، وجامعة إكسافيير. \n \n \nوايكليف جوردون هو عضو في هيئة التدريس في قسم دراسات الجاز في مدرسة جوليارد، ويقود جوردون العديد من ورشات العمل المتكررة والفصول الرئيسية، ويعمل كأستاذ أثناء مهرجان ومسابقة إلينغتون السنوية. نال جوردون جائزة نقاد الجاز لعام 2006 كأفضل عازف ترومبون من جمعية صحفيي الجاز، وكان أحد أعضاء هيئة التدريس في مدرسة جوليارد للجاز منذ بداية البرنامج في عام 2001. وبدأ العزف على الترومبون في سن الثانية عشر، وهو عضو في مركز وينتون مارساليس، وفرقة الجاز في مركز لينكولن، ومركز وايكليف جوردون. \n \n \nفرقة الدوحة لموسيقى الجاز، خماسي الدوحة، تشكلت عام 2003، هي تجمع من موسيقيين محبين للجاز في قطر. ومنذ إنشاء الفرقة منذ 4 سنوات، التحق بها ورحل عنها العديد من الموسيقيين. ومع ذلك فإن الشخصين الأساسيين طوال هذه المدة كانا كريس كول (عازف البوق) وجون بيتري (منظم الصوت)، وقد انضم إليهما الآن ريتشارد بيركس (عازف الغيتار) وفريجر دود (عازف الساكسوفون) وعادل حسان (عازف الطبول). يمكن مشاهدة فرقة الدوحة للجاز والاستماع لموسيقاها في فندق ريتز كارلتون كل يوم جمعة أثناء وجبة الفطور والغداء، ويتواجدون كل أسبوعين في أمسيات الجاز في حانة السيجار في فندق هابانوس.
URL:https://cirs.qatar.georgetown.edu/event/%d9%85%d9%87%d8%b1%d8%ac%d8%a7%d9%86-%d8%a7%d9%84%d9%81%d9%86%d9%88%d9%86-%d8%a7%d9%84%d8%a3%d9%85%d8%b1%d9%8a%d9%83%d9%8a%d8%a9-%d8%a3%d8%b3%d8%a8%d9%88%d8%b9-%d8%a7%d9%84%d8%ac%d8%a7%d8%b2/
ATTACH;FMTTYPE=image/jpeg:https://cirs.qatar.georgetown.edu/wp-content/uploads/sites/3/2015/06/events_15581_8936_1411056793-1.jpg
END:VEVENT
BEGIN:VEVENT
DTSTART;TZID=Europe/Moscow:20070225T110000
DTEND;TZID=Europe/Moscow:20070228T210000
DTSTAMP:20260424T183249
CREATED:20150615T142540Z
LAST-MODIFIED:20210524T092310Z
UID:10001263-1172401200-1172696400@cirs.qatar.georgetown.edu
SUMMARY:مهرجان الفنون الأمريكية – أسبوع التصوير
DESCRIPTION:برعاية مركز الدراسات الدولية والإقليمية في الدوحة، أقيمت سلسلة من البرامج حول الفنون الأمريكية، كانت بعنوان مهرجان الفنون الأمريكية، وذلك في الفترة الواقعة ما بين 16 فبراير – 8 مارس 2007. وقد نفذ المركز في كلية الشؤون الدولية في جامعة جورجتاون في قطر عدة برامج لمنح دراسية، وبحوث، وتوعية عامة في مجال الشؤون الدولية والإقليمية. ويحافظ مركز الدراسات الدولية والإقليمية على علاقات مع البيئة المحيطة من خلال تقديم العديد من البرامج الثقافية والتعليمية التي تتصل مع كل من السكان المحليين والساحة الدولية الأكبر. \n \n \nقبل عام 1940، كانت الولايات المتحدة الأمريكية دولة تغطي المناطق الريفية معظم مساحتها، وبعد انتهاء الحرب الأهلية الأمريكية (1861-1865) غيرت عملية التحول الصناعي وحركة السكان سواء كهجرة داخلية أو هجرة من الخارج إلى الولايات المتحدة وجه أمريكا. خلقت عملية التحول الصناعي السريع الحاجة إلى قوى عاملة غير ماهرة وهو الأمر الذي لفت اهتمام الناس للتوجه إلى المدن الأمريكية، وخلال هذه الفترة، ظهر التصوير كشكل مهم من أشكال التعبير الفني. قدمت الطبقة الوسطى المتنامية في أمريكا جمهوراً ورعاة لهذه الرؤية الجديدة والجريئة. في حين أن الجمال والفوضى المرافقان لعملية التمدن ألهمت الفنانين لتوثيق هذه المدن والناس الذين جعلوا هذه المدن حيوية جداً. وما نجا من هذه العملية هو سجل أنيق لأمة اختبرت الآلام المتنامية للدخول في العالم الصناعي. تستعد قطر الآن للبدء في النمو الصناعي في تاريخها، ونأمل أن تعطيك هذه اللمحة عن تاريخ المدن الأمريكية وأوجه الشبه والاختلاف الإسهام في تعزيز التفاهم المتبادل. \n \n \nكانت الصور التي تصف المدن الأمريكية بين الفترة من 1880 إلى 1950 تعرض في مركز لاندمارك طوال فترة مهرجان الفنون الأمريكية، و قد قدمت محاضرة حول هذا الموضوع من قبل سام أبيل المصور في مجلة ناشيونال جيوغرافيك، وكذلك قدمت ورشات عمل من قبل أعضاء الهيئة التدريسية في جامعة جورجتاون، وأعضاء الجمعية القطرية للتصوير الضوئي. \n \n \nمسابقة التصوير الفوتوغرافي: \n \n \nنظم قسم التصوير الفوتوغرافي لمهرجان الفنون الأمريكية مسابقة للتصوير الفوتوغرافي، وكانت مفتوحة للجميع، وكانت هذه فرصة فريدة للمهتمين بفن التصوير الفوتوغرافي للمشاركة بفعالية في تنفيذ هذا الحلم وتقديم أعمالهم لزملائهم وللمهنيين الممارسين في هذا المجال. وكان سام أبيل المصور في مجلة ناشيونال جيوغرافيك أحد أعضاء لجنة التحكيم للمسابقة، وكان متواجداً أيضاً لتقديم المشورة والدعم للمشاركين في هذا الحدث الهام، تم قبول الطلبات بين 15 نوفمبر 2006 و 8 فبراير 2007. \n \n \nالسيرة الذاتية للمشاركين في أسبوع التصوير الفوتوغرافي: \n \n \nسام أبيل، وهو المصور المخضرم في مجلة ناشيونال جيوغرافيك، وأحد المصورين الأربعة فقط الموظفين في تاريخ المجلة، وهو مثال للمصور الصحفي الكلاسيكي. تتحدث أعمال أبيل غالباً عن قصص تعبيرية للزمان والمكان، مثل لويس وكلارك، ونهر المسيسبي، والأمازون، وأستراليا، والقصر الإمبراطوري في اليابان، وتحدث مؤخراً عن قصته الشخصية في كتابه سام أبيل: حياة مصور. تعبر الصور التي يلتقطها أبيل عن جمال كل من الثقافة والطبيعة، وقد صور عشرات القصص، وألف العديد من الكتب التي حازت عدة  جوائز. تظهر أعماله في جميع أنحاء العالم، ويشارك أبيل ما عاشه من إثارة، وتآمر، وإحباط، وحسرة، ومتعة خلال 35 عاماً من العمل في جميع أنحاء العالم مع المجلة الأكثر ثقة في العالم. \n \n \nخليفة العبيدلي هو مصور فني، حصل عام 1993 على شهادة البكالوريوس في علم الأحياء البحرية من جامعة قطر ما دفعه للاهتمام بالتصوير تحت الماء. ولقد شغل منصب مدير متحف قطر للتصوير وعمل على بناء وتجميع مكونات المتحف، وهو يتحدى باستمرار وسائل التصوير التقليدية، بل إنه يتجاوز حدودها مع تقنيات وتصاميم جديدة وفريدة من نوعها. يشغل حالياً منصب رئيس قسم العلاقات العامة في الهيئة العامة للطيران المدني. \n \n \nكيت سامبسل – ويلمان هي باحثة في التاريخ الفكري والاجتماعي للولايات المتحدة ومصورة في الفنون الجميلة، وقد نالت شهادة الدكتوراه (بامتياز) من جامعة جورجتاون عام 2002، ونالت شهادة دكتوراه القانون من كلية الحقوق بجامعة بالتيمور للقانون عام 1991. وهي مؤلفة لعدة كتب وروايات منها: إذا أمكنني أن أقول هذه القصة في سطور…: لويس هاين، والتاريخ الفكري للوثائقي الاجتماعي، الذي سيصدر عن مطبوعات جامعة نورث كارولينا، و”ثلاثة أجيال من العشب: التصوير الفوتوغرافي، والليبرالية، والفلاح الأمريكي”، وتاريخ التصوير الفوتوغرافي (ديسمبر 2003)، و”جزيرة إليس وتجربة حياة لويس هاين: صور من الأفكار” الذي سيصدر عن مجلة العصر الذهبي والعصر التقدمي. وهي الآن عضو هيئة تدريس التاريخ في كلية الشؤون الدولية في جامعة جورجتاون في قطر، كما درست مادة التاريخ الأمريكي في تركيا والإمارات العربية المتحدة. \n \n \nكانت عبير الكواري أول عضو في الجمعية القطرية للتصوير الضوئي عام 1988، وتركز صورها على الطبيعة والحياة والأطفال. تكمن موهبتها في قدرتها على تحقيق المعنى العميق لما هو بسيط ويومي، حيث إنها تلتقط مواضيع في بيئتها الطبيعية، وقد عرضت أعمالها في العديد من الفعاليات والمناسبات، في أماكن مغلقة وفي الهواء الطلق وحصلت على العديد من الجوائز.
URL:https://cirs.qatar.georgetown.edu/event/%d9%85%d9%87%d8%b1%d8%ac%d8%a7%d9%86-%d8%a7%d9%84%d9%81%d9%86%d9%88%d9%86-%d8%a7%d9%84%d8%a3%d9%85%d8%b1%d9%8a%d9%83%d9%8a%d8%a9-%d8%a3%d8%b3%d8%a8%d9%88%d8%b9-%d8%a7%d9%84%d8%aa%d8%b5%d9%88/
ATTACH;FMTTYPE=image/jpeg:https://cirs.qatar.georgetown.edu/wp-content/uploads/sites/3/2015/06/events_15571_8931_1411056619-1.jpg
END:VEVENT
BEGIN:VEVENT
DTSTART;TZID=Europe/Moscow:20070219T080000
DTEND;TZID=Europe/Moscow:20070222T180000
DTSTAMP:20260424T183249
CREATED:20150615T143102Z
LAST-MODIFIED:20210524T092310Z
UID:10001265-1171872000-1172167200@cirs.qatar.georgetown.edu
SUMMARY:مهرجان الفنون الأمريكية – أسبوع الشعر
DESCRIPTION:برعاية مركز الدراسات الدولية والإقليمية في الدوحة، أقيمت سلسلة من البرامج حول الفنون الأمريكية، كانت بعنوان مهرجان الفنون الأمريكية، وذلك في الفترة الواقعة ما بين 16 فبراير – 8 مارس 2007. وقد نفذ المركز في كلية الشؤون الدولية في جامعة جورجتاون في قطر عدة برامج لمنح دراسية، وبحوث، وتوعية عامة في مجال الشؤون الدولية والإقليمية. ويحافظ مركز الدراسات الدولية والإقليمية على علاقات مع البيئة المحيطة من خلال تقديم العديد من البرامج الثقافية والتعليمية التي تتصل مع كل من السكان المحليين والساحة الدولية الأكبر. \n \n \nلقد فهمت العديد من الثقافات بما في ذلك الثقافات العربية والشرق أوسطية الشعر كمصدر حميمي للتعبير عن الهوية؛ لدرجة أن مشاركة شعر أحد ما يساوي مشاركة الشخص نفسه، ولكن هذا الوصول إلى القرب أو الحميمة لا يخلو من الصعوبات، كيف يمكننا أن نترجم الشعر من لغة إلى أخرى، ومن ثقافة إلى أخرى؟ ورغم ذلك، فإن الشاعر المسلم جلال الدين الرومي الذي عاش في القرن الثالث عشر يعد واحداً من أكثر الشعراء شعبية في القرن الواحد والعشرين في أمريكا، ما يشير إلى أن الشعر قد يكون أفضل وسيلة لعبور الحدود الثقافية، وربما أكثرها مشقة. \n \n \nبرز الشعر الأمريكي في مهرجان الفنون الأمريكية، حيث بنى جسراً بين أغاني الشامان الأمريكية الأصلية والكلمات المعاصرة  لناس يحتفلون بأصولهم المتنوعة ومصيرهم المشترك. هل بإمكان الشعر العربي والشعر الأمريكي أن يمثلا بعضهما، ويثريا بعضهما، ويتلاقيا في التعبير عن طموحات عالمية؟ لقد بحثت سلسلتنا من القراءات الشعرية وحلقات العمل والمحاضرات، والمناقشات، واللقاءات بين الشعراء الأمريكيين والقطريين هذه الأسئلة وغيرها. \n \n \nالسيرة الذاتية للمشاركين في أسبوع الشعر: \n \n \nعمل روبرت بنسكي كشاعر استشاري في مكتبة الكونغرس في الفترة الواقعة ما بين 1997 – 2000. بنسكي هو سفير الشعر ومؤسس مشروع القصيدة المفضلة، حيث يتم إعطاء الرأي العام الأميركي الفرصة لتبادل القصائد المفضلة لديهم. وبالإضافة إلى كونه شاعراً متميزاً، فبنسكي محرر وكاتب ومدرس ومترجم، ويعتبر كتاب جحيم دانتي من ترجمة روبرت بنسكي من أفضل الكتب مبيعاً وقد حصل على جائزة كتاب لوس انجلس تايمز وجائزة هاوارد مورتن لاندن للترجمة. \n \n \nبيتر فورتوناتو، خريج جامعة كورنيل، وحاصل على درجة الماجستير في الفنون الجميلة في الكتابة الإبداعية من جامعة ولاية كارولينا الشمالية، جرينسبورو. وقد درس في جامعة كورنيل وفي كلية إيثاكا لسنوات عديدة. فورتوناتو شاعر ومغن ومؤسس لمجموعتين من الشعر والأداء المسرحي في الولايات المتحدة – مسرح سبايدروت ومجموعة روح الخيول، وقد نشر مجموعات من الشعر والمقالات والقصص القصيرة، وعمل كمستشار شامل ومدرب على مهارات الحياة. تشمل الجوائز التي حصل عليها جائزة ديكنسون إميلي لجمعية الشعر الأمريكي، وجائزة بابلو نيرودا لمجلس أوكلاهوما للفنون. \n \n \nنال محمد العوادي شهادة الدكتوراه في علم اللغويات من جامعة جورجتاون في واشنطن في عام 1996، ثم عاد إلى المملكة العربية السعودية، بلده الأصلي، حيث قام بالتدريس في كلية اللغات والترجمة في جامعة الملك خالد في أبها. قام العوادي بتجميع وترجمة قصائد صاحب السمو الملكي الأمير خالد الفيصل آل سعود بعنوان حرائق الحب ووهم الزمن: وهي قصائد باللهجة السعودية العامية (دار برزان للنشر، 2004). \n \n \nروجر بنسكي، أستاذ في الأدب الفرنسي في جامعة جورجتاون، ومتخصص بالمسرح الحديث. تشمل مجالات اهتمامه التصوف، وبصورة رئيسية الكابالا، ومن أعماله المنشورة كتابان عن الرمزية وفن الدمى (نيزيت، وباريس)، ومقالات بمراجعة فرنسية عن مسرحيين معاصرين مثل (بيكيت، لونيسكو، دوبيلارد، جاتي، بينيديتو) ومخرجين من أمثال (لافيلي، لاسال، مسغويتش، مارشال، لافادانت). \n \n \nأميرة الزين، خريجة جامعة تافتس، وهي مترجمة وشاعرة. حصلت على شهادة الدكتوراه في اللغة العربية وآدابها من جامعة جورجتاون عام 1995، وقد نشرت الدكتورة أميرة الزين وحاضرت على نطاق واسع في اللغة العربية والفرنسية والإنجليزية في مواضيع تتراوح بين الفكر العربي في العصور الوسطى والعصر الحديث، والأدب الفرانكوفوني، والتصوف المقارن، والفولكلور المقارن. وقد نشرت مؤخراً ديوانها الأخير “الجن” وقصائد أخرى عبر مؤسسة آروسميث للنشر في كامبريدج، بوسطن. \n \n \nأحمد عبد الملك، كاتب ومحاضر زائر في جامعة قطر، حاصل على درجة الدكتوراه في الصحافة من جامعة ويلز بالمملكة المتحدة في عام 1989. لدى الدكتور عبد الملك خبرة واسعة في وسائل الإعلام والصحافة، وقد شغل مناصب مختلفة في تلفزيون قطر، وكان المحرر العام للصحيفة اليومية (الخليج تايمز) المتحدثة باللغة الإنكليزية، والصحيفة اليومية المتحدثة بالعربية (الشرق). علاوة على ذلك، كان مدير إدارة الإعلام في الأمانة العامة لمجلس دول الخليج، كما كان المستشار الإعلامي لمنسق القمة الإسلامية العامة، وقد نشر مجموعة متنوعة من الكتب المهنية والاجتماعية، والأدبية. \n \n \nزكية علي مال الله، شاعرة وكاتبة ومؤلفة قطرية، حصلت على الدكتوراه في الصيدلة من جامعة القاهرة عام 1990، وتعمل الدكتور مال الله في الوقت الراهن في الهيئة الوطنية للصحة، وتكتب لصحيفة الوطن، وهي عضو في المجلس الوطني للفنون والثقافة والتراث في دولة قطر. لدى الدكتورة مال الله العديد من المؤلفات الشعرية والترجمات، وقد تلقت جوائز عن العديد من أعمالها بما في ذلك جائزة الملك خالد للشعر. \n \n \nحصة العوضي، شاعرة قطرية وكاتبة مسرحية ومؤلفة، وقد نشرت ستة مجلدات من الشعر والعديد من الكتب المصورة من الشعر والقصص القصيرة التي تهدف إلى تسلية وتثقيف الأطفال وصغار القراء. عرضت أعمال الدكتورة حصة باللغتين العربية والإنجليزية. \n \n \nعلي ميرزا، فنان قطري وشاعر، وقد عمل في إنتاج وإخراج العديد من المسرحيات ونشر العديد من دواوين الشعر، وهو عضو مؤسس في الحركة المسرحية في قطر في عام 1970، ويرأس حالياً قسم تقييم سرد النصوص والبرامج في تلفزيون في قطر.
URL:https://cirs.qatar.georgetown.edu/event/%d9%85%d9%87%d8%b1%d8%ac%d8%a7%d9%86-%d8%a7%d9%84%d9%81%d9%86%d9%88%d9%86-%d8%a7%d9%84%d8%a3%d9%85%d8%b1%d9%8a%d9%83%d9%8a%d8%a9-%d8%a3%d8%b3%d8%a8%d9%88%d8%b9-%d8%a7%d9%84%d8%b4%d8%b9%d8%b1/
ATTACH;FMTTYPE=image/jpeg:https://cirs.qatar.georgetown.edu/wp-content/uploads/sites/3/2015/06/events_15576_8926_1411056730-1.jpg
END:VEVENT
BEGIN:VEVENT
DTSTART;TZID=Europe/Moscow:20070216T080000
DTEND;TZID=Europe/Moscow:20070216T180000
DTSTAMP:20260424T183249
CREATED:20150615T143418Z
LAST-MODIFIED:20210524T092311Z
UID:10001267-1171612800-1171648800@cirs.qatar.georgetown.edu
SUMMARY:مهرجان الفنون الأمريكية – حفل الافتتاح
DESCRIPTION:برعاية مركز الدراسات الدولية والإقليمية في الدوحة، أقيمت سلسلة من البرامج حول الفنون الأمريكية، كانت بعنوان مهرجان الفنون الأمريكية، وذلك في الفترة الواقعة ما بين 16 فبراير – 8 مارس 2007. وقد نفذ المركز في كلية الشؤون الدولية في جامعة جورجتاون في قطر عدة برامج لمنح دراسية، وبحوث، وتوعية عامة في مجال الشؤون الدولية والإقليمية. ويحافظ مركز الدراسات الدولية والإقليمية على علاقات مع البيئة المحيطة من خلال تقديم العديد من البرامج الثقافية والتعليمية التي تتصل مع كل من السكان المحليين والساحة الدولية الأكبر. \n \n \nجرى حفل افتتاح مهرجان الفنون الأمريكية يوم 16 فبراير 2007 في حديقة البدع على شارع الكورنيش في الدوحة، وأقيم الحفل بشكل مفتوح أمام الجمهور. \n \n \nتم تصميم مهرجان الفنون الأمريكية عام 2007 لإتاحة الفرصة لقطر والمنطقة للتفاعل مع مختلف جوانب الثقافة الأمريكية من خلال فنونها، وقد ركز المهرجان على ثلاثة مجالات: الشعر والتصوير وموسيقى الجاز. شمل كل برنامج عدة أنشطة على مدى عدة أيام، وتم تصميم البرامج الثلاثة ليقدموا عروضاً عن أشكال الفن من خلال الأداء الفني والمحاضرات والمناقشة، لإظهار ما يعبر عنه الفن الأمريكي من تاريخ وثقافة ومجتمع، وللمشاركة وتعزيز الحوار مع الفنانين وطلاب الفن القطريين والعرب. \n \n \nألقى جيمس ريردن أندرسن عميد كلية الشؤون الدولية بجامعة جورجتاون في قطر كلمة ترحيبية وعرف عن المتحدثين الرئيسيين في المهرجان، عبد الله آل ثاني من مؤسسة قطر، وعائشة آل ثاني من مؤسسة أيادي الخير نحو آسيا، والسفير الأمريكي في قطر تشايس أنترماير.
URL:https://cirs.qatar.georgetown.edu/event/%d9%85%d9%87%d8%b1%d8%ac%d8%a7%d9%86-%d8%a7%d9%84%d9%81%d9%86%d9%88%d9%86-%d8%a7%d9%84%d8%a3%d9%85%d8%b1%d9%8a%d9%83%d9%8a%d8%a9-%d8%ad%d9%81%d9%84-%d8%a7%d9%84%d8%a7%d9%81%d8%aa%d8%aa%d8%a7/
ATTACH;FMTTYPE=image/jpeg:https://cirs.qatar.georgetown.edu/wp-content/uploads/sites/3/2015/06/events_15626_8921_1411057901-1.jpg
END:VEVENT
END:VCALENDAR