BEGIN:VCALENDAR
VERSION:2.0
PRODID:-//Center for International and Regional Studies - ECPv6.15.15//NONSGML v1.0//EN
CALSCALE:GREGORIAN
METHOD:PUBLISH
X-ORIGINAL-URL:https://cirs.qatar.georgetown.edu
X-WR-CALDESC:Events for Center for International and Regional Studies
REFRESH-INTERVAL;VALUE=DURATION:PT1H
X-Robots-Tag:noindex
X-PUBLISHED-TTL:PT1H
BEGIN:VTIMEZONE
TZID:Europe/Moscow
BEGIN:STANDARD
TZOFFSETFROM:+0300
TZOFFSETTO:+0300
TZNAME:MSK
DTSTART:20180101T000000
END:STANDARD
END:VTIMEZONE
BEGIN:VEVENT
DTSTART;TZID=Europe/Moscow:20190324T124500
DTEND;TZID=Europe/Moscow:20190324T134500
DTSTAMP:20260424T182940
CREATED:20190820T063929Z
LAST-MODIFIED:20210524T090816Z
UID:10001403-1553431500-1553435100@cirs.qatar.georgetown.edu
SUMMARY:أثر أخبار الأعمال والسياسة في أسواق الأسهم الخليجية
DESCRIPTION:تناولت العنود المعاضيد، وهي أستاذ مساعد للاقتصاد بجامعة قطر، بالبحث الترابطَ بين السياسة والاقتصاد في العلاقات بين الدول الأعضاء في مجلس التعاون لدول الخليج العربية، وهو تحالف أنشئ عام 1981 ويضم في عضويته المملكة العربية السعودية، والكويت، والإمارات العربية المتحدة، وقطر، والبحرين، وعُمان. واستكشفت هذه الديناميكيات من خلال النظر في تأثير الأخبار في عائدات أسواق الأسهم الخليجية في نقاش مركّز بعنوان “أثر أخبار الأعمال والسياسة في أسواق الأسهم الخليجية”، استضافه مركز الدراسات الدولية والإقليمية في 24 مارس 2019. \n \n \nأوضحت المعاضيد أن قوى العرض والطلب قاعدةٌ عامة في علم الاقتصاد، لكن علم الاقتصاد السلوكي –الذي ينظر في آثار العوامل النفسية والعاطفية والثقافية والاجتماعية في صنع القرار– قد يتعارض مع ما هو ضمني في النموذج الاقتصادي القياسي. وأضافت: “في علم الاقتصاد السلوكي، يكون الناس أحيانًا غير عقلانيين ولا يمكن توقع سلوكهم، وقد يقومون باختيارات غير متوقعة”. وبالتالي، فإن لعلم الاقتصاد السلوكي العديد من التطبيقات العملية، وغالبًا ما يستعين به واضعو السياسات والدبلوماسيون والعاملون في مجال التسويق. \n \n \nوركزت المعاضيد في عرضها على الأداء المالي لأسواق الأسهم الخليجية والتكامل الشديد بين أسواق دول مجلس التعاون الخليجي. وقالت: “يبدو أن لأسواق الأسهم في دول مجلس التعاون الخليجي اتجاهات متشابهة. فعندما تنخفض أسعار النفط، تنخفض أسعار الأسهم” في المنطقة برمتها. وعندما بدأت الأزمة الخليجية في عام 2017، التي أقدمت فيها المملكة العربية السعودية والإمارات العربية المتحدة والبحرين ومصر على حصار قطر، انخفضت أسعار معظم الأسهم في دول مجلس التعاون الخليجي. \n \n \n “عندما ترتفع سوق الأسهم، لا يكون للأخبار كبيرُ أثر في تلك السوق. ولكن عندما تنخفض ​​سوق الأسهم، وإذا كانت هناك أخبار سلبية، فإن التأثير يكون أكبر في أسواق الأسهم.” \n \n \nوخلصت المعاضيد في بحثها إلى أن إجمالي الناتج المحلي في دول مجلس التعاون الخليجي يتأثر بالأخبار الإيجابية والسلبية. واستعانت بنموذج ديناميكي خطّي لتوضيح كيفية تأثر عائدات أسعار الأسهم بأخبار الأعمال والسياسة. فجمعت بيانات أسبوعية عن أخبار دول مجلس التعاون الخليجي من بلومبيرغ ثم أنشأت فهرسًا للأخبار السلبية والإيجابية في مجال السياسة والأعمال. كما استخدمت متغيرات التحكم مثل أسعار النفط، والإعلانات المتعلقة بالاقتصاد الكلّي، وأسعار الفائدة. \n \n \nوخلال الفترة التي شملتها الدراسة الاستقصائية (2010-2018)، خلصت المعاضيد إلى أن الأخبار السياسية السلبية لم تتجاوز علامة العشرين بالمائة، وهذا يعني أن غالبية المحتوى الإخباري في صحف مجلس التعاون الخليجي إيجابية. ومع ذلك، كان هناك محتوى سلبي أكثر بكثير فيما يخص أخبار الأعمال. وقالت المعاضيد: “غالبية الأخبار الصادرة من دول مجلس التعاون الخليجي، خاصة الأخبار السياسية، إيجابية. أما بخصوص أخبار الأعمال، فهناك أخبار سلبية أكثر، لكن نسبتها لا تبلغ الثلاثين في المائة” من إجمالي محتوى الأخبار. واستعانت المعاضيد في تحقيقاتها بأداة تُستخدم في الاقتصاد المالي القياسي، وهي نموذج تحويل ماركوف، لقياس ديناميكيات الأخبار السلبية. وأشارت إلى أنه “عندما ترتفع سوق الأسهم، لا يكون للأخبار كبيرُ أثر في ذلك السوق. ولكن عندما تنخفض ​​سوق الأسهم، وإذا كانت هناك أخبار سلبية، فإن التأثير يكون أكبر في أسواق الأسهم.” وكشفت النتائج أيضًا أن تأثير الأخبار السياسية أقل من تأثير أخبار الأعمال، وأن سوق الأسهم لا تتفاعل كثيرًا مع الأخبار السياسية. \n \n \nوفي الختام، أبرزت المعاضيد “التأثير العابر للحدود” لدول مجلس التعاون الخليجي، مجادِلةً بأنه “عندما تكون هناك أخبار من المملكة العربية السعودية وقطر والإمارات العربية المتحدة، لا تكون التأثيرات محلية فحسب، بل تمتد إلى جميع البلدان الأخرى” في مجلس التعاون الخليجي، لأن الاقتصادات أقوى وأسواق الأوراق المالية أكثر تكاملاً. وبالتالي، تقول المعاضيد، فإن حصار قطر أثر سلبًا في جميع دول مجلس التعاون الخليجي. وأكدت أن رفع الحصار سيكون له تأثير إيجابي عبر الحدود يشمل جميع الأطراف ذات العلاقة. \n \n \nمقال بقلم الخنساء ماريا، زميلة منشورات كيورا \n \n \n \nالعنود المعاضيد زميلة (من جامعة قطر) لمركز الدراسات الدولية والإقليمية للفترة 2018-2019. حصلت على درجة الدكتوراه في الاقتصاد والتمويل من جامعة برونيل بلندن في عام 2016 وكانت أطروحتها عن “آثار أسعار النفط والمواد الغذائية والأخبار الاقتصادية الكلّية في أسواق الأسهم الخليجية”. وهي باحثة مشهود لها في مجالات الاقتصاد وأسواق الأوراق المالية الخليجية، والتمويل السلوكي، وقامت بتدريس مقررات عدة من بينها مبادئ الاقتصاد الكلّي والسياسة النقدية.
URL:https://cirs.qatar.georgetown.edu/event/%d8%a3%d8%ab%d8%b1-%d8%a3%d8%ae%d8%a8%d8%a7%d8%b1-%d8%a7%d9%84%d8%a3%d8%b9%d9%85%d8%a7%d9%84-%d9%88%d8%a7%d9%84%d8%b3%d9%8a%d8%a7%d8%b3%d8%a9-%d9%81%d9%8a-%d8%a3%d8%b3%d9%88%d8%a7%d9%82-%d8%a7%d9%84/
ATTACH;FMTTYPE=image/jpeg:https://cirs.qatar.georgetown.edu/wp-content/uploads/sites/3/2019/08/events_128609_49843_1566283169-1.jpg
END:VEVENT
END:VCALENDAR