BEGIN:VCALENDAR
VERSION:2.0
PRODID:-//Center for International and Regional Studies - ECPv6.15.15//NONSGML v1.0//EN
CALSCALE:GREGORIAN
METHOD:PUBLISH
X-ORIGINAL-URL:https://cirs.qatar.georgetown.edu
X-WR-CALDESC:Events for Center for International and Regional Studies
REFRESH-INTERVAL;VALUE=DURATION:PT1H
X-Robots-Tag:noindex
X-PUBLISHED-TTL:PT1H
BEGIN:VTIMEZONE
TZID:Europe/Moscow
BEGIN:DAYLIGHT
TZOFFSETFROM:+0300
TZOFFSETTO:+0400
TZNAME:MSD
DTSTART:20070324T230000
END:DAYLIGHT
BEGIN:STANDARD
TZOFFSETFROM:+0400
TZOFFSETTO:+0300
TZNAME:MSK
DTSTART:20071027T230000
END:STANDARD
BEGIN:DAYLIGHT
TZOFFSETFROM:+0300
TZOFFSETTO:+0400
TZNAME:MSD
DTSTART:20080329T230000
END:DAYLIGHT
BEGIN:STANDARD
TZOFFSETFROM:+0400
TZOFFSETTO:+0300
TZNAME:MSK
DTSTART:20081025T230000
END:STANDARD
BEGIN:DAYLIGHT
TZOFFSETFROM:+0300
TZOFFSETTO:+0400
TZNAME:MSD
DTSTART:20090328T230000
END:DAYLIGHT
BEGIN:STANDARD
TZOFFSETFROM:+0400
TZOFFSETTO:+0300
TZNAME:MSK
DTSTART:20091024T230000
END:STANDARD
END:VTIMEZONE
BEGIN:VEVENT
DTSTART;TZID=Europe/Moscow:20080413T120000
DTEND;TZID=Europe/Moscow:20080414T003000
DTSTAMP:20260423T123558
CREATED:20150615T122420Z
LAST-MODIFIED:20210524T092223Z
UID:10001039-1208088000-1208133000@cirs.qatar.georgetown.edu
SUMMARY:الفيلم الوثائقي – وعود
DESCRIPTION:استضاف مركز الدراسات الدولية والإقليمية في إطار جهود التوعية المستمرة، ب. ز. غولدبرغ وجوستين شابيرو، المبدعين صاحبي الفيلم الوثائقي الذي حاز عدة جوائز “وعود”، ودعاهما للمشاركة في العروض العامة للفيلم. يذكر أن وعود هو فيلم وثائقي يتابع قصص سبعة أطفال يعيشون على طرفي الصراع الفلسطيني الإسرائيلي. وقد رشح الفيلم لنيل جائزة الأكاديمية السنوية الـرابعة والسبعين عن فئة “أفضل فيلم وثائقي”. \n \n \nكما دعي غولدبرغ وشابيرو للحضور إلى حرم كلية الشؤون الدولية في جامعة جورجتاون في قطر، حيث استقبلهما موظفو مركز الدراسات الدولية والإقليمية، وعقدا ورشة عمل غير رسمية مع طلاب وأعضاء الهيئة التدريسية في كلية الشؤون الدولية في قطر. \n \n \nفي 14 أبريل 2008، نظم مركز الدراسات الدولية والإقليمية عرضين في توقيتين مختلفين من اليوم نفسه لفيلم وعود لاستيعاب الطلب العام والاهتمام الواضح بالفيلم الوثائقي. تم العرض الأول صباحاً في قاعة كلية شمال الأطلنطي في قطر واستهدف طلاب المدارس الثانوية القطريين والأجانب، الذين حضروا العرض بصحبة الأوصياء عليهم. حضر العرض الصباحي 150 طالباً وطالبة من المدرسة الأمريكية في الدوحة ومدرسة آمنة بنت وهب للبنات. أما العرض المسائي، فقد أقيم أيضاً في قاعة كانت قد خصصت لعامة الجمهور، وبدأت الأمسية بحفل استقبال للمشاركين قبل عرض الفيلم. وكان غولدبرغ وشابيرو بين الحضور واعتليا المنصة بعد عرض الفيلم للإجابة على أسئلة الجمهور.
URL:https://cirs.qatar.georgetown.edu/event/%d8%a7%d9%84%d9%81%d9%8a%d9%84%d9%85-%d8%a7%d9%84%d9%88%d8%ab%d8%a7%d8%a6%d9%82%d9%8a-%d9%88%d8%b9%d9%88%d8%af/
ATTACH;FMTTYPE=image/jpeg:https://cirs.qatar.georgetown.edu/wp-content/uploads/sites/3/2015/06/events_15591_8906_1411057103-1.jpg
END:VEVENT
END:VCALENDAR