BEGIN:VCALENDAR
VERSION:2.0
PRODID:-//Center for International and Regional Studies - ECPv6.15.15//NONSGML v1.0//EN
CALSCALE:GREGORIAN
METHOD:PUBLISH
X-WR-CALNAME:Center for International and Regional Studies
X-ORIGINAL-URL:https://cirs.qatar.georgetown.edu
X-WR-CALDESC:Events for Center for International and Regional Studies
REFRESH-INTERVAL;VALUE=DURATION:PT1H
X-Robots-Tag:noindex
X-PUBLISHED-TTL:PT1H
BEGIN:VTIMEZONE
TZID:Europe/Moscow
BEGIN:DAYLIGHT
TZOFFSETFROM:+0300
TZOFFSETTO:+0400
TZNAME:MSD
DTSTART:20070324T230000
END:DAYLIGHT
BEGIN:STANDARD
TZOFFSETFROM:+0400
TZOFFSETTO:+0300
TZNAME:MSK
DTSTART:20071027T230000
END:STANDARD
BEGIN:DAYLIGHT
TZOFFSETFROM:+0300
TZOFFSETTO:+0400
TZNAME:MSD
DTSTART:20080329T230000
END:DAYLIGHT
BEGIN:STANDARD
TZOFFSETFROM:+0400
TZOFFSETTO:+0300
TZNAME:MSK
DTSTART:20081025T230000
END:STANDARD
BEGIN:DAYLIGHT
TZOFFSETFROM:+0300
TZOFFSETTO:+0400
TZNAME:MSD
DTSTART:20090328T230000
END:DAYLIGHT
BEGIN:STANDARD
TZOFFSETFROM:+0400
TZOFFSETTO:+0300
TZNAME:MSK
DTSTART:20091024T230000
END:STANDARD
END:VTIMEZONE
BEGIN:VEVENT
DTSTART;TZID=Europe/Moscow:20080405T080000
DTEND;TZID=Europe/Moscow:20080406T180000
DTSTAMP:20260421T143937
CREATED:20150603T082134Z
LAST-MODIFIED:20230806T071950Z
UID:10001113-1207382400-1207504800@cirs.qatar.georgetown.edu
SUMMARY:مركز الدراسات الدولية والإقليمية يستضيف مؤتمر "الابتكار في الإسلام"
DESCRIPTION:استضاف مركز الدراسات الدولية والإقليمية مؤتمر الابتكار في الإسلام في الفترة الواقعة ما بين 05-06 أبريل 2008. \n\nاستكشف مؤتمر الابتكار في الإسلام موضوعات مثل فكرة وواقع الابتكار في الإسلام؛ وتطوير المعرفة في صدر الإسلام؛ والتنمية والتغيير في النظام القانوني الإسلامي؛ والفنون والابتكار الفني في الإسلام؛ والعلم والابتكار العلمي في الإسلام؛ والابتكار الفقهي في الإسلام؛ والسياسة والابتكار السياسي في الإسلام. \n\nبالإضافة إلى نشر وقائع المؤتمر على موقعه على شبكة الانترنت، خطط مركز الدراسات الدولية والإقليمية لجمع وتحرير ونشر أهم الأوراق البحثية التي عرضت في المؤتمر في صيغة مجلد محرر بعنوان الابتكار في الإسلام: التقاليد والمساهمات (مطبوعات جامعة كاليفورنيا، 2011). \n\nالمتحدث الرئيسي:\n\nألقى الشاعر الشهير أدونيس الكلمة الرئيسية في المؤتمر. يعتبر أدونيس رائداً من رواد الشعر العربي الحديث، حيث ألف “علي أحمد سعيد إسبر” أكثر من عشرين كتاباً باللغة العربية. \n\nالمشاركون:\n\nضم المؤتمر بعض أبرز العلماء في الفكر الإسلامي والثقافة والتاريخ. من بينهم أميرة سنبل، وحسن حنفي، وجون فول، ومهران كمرافا، ومحمد أركون، ونصر حامد أبو زيد، ونيللي حنا، وأميمة أبو بكر، وباتريك لود، وبيتر جران، وشيرمان جاكسون، وسمية أ. حمداني، وطارق رمضان، ووالتر دني، وزكريا عبد الهادي، وزيبا مير حسيني. \n\nعرض السير الذاتية للمتحدثين \n\nالبرنامج: \n\nالحلقة 1 – الابتكار في الإسلام: المفهوم والواقع \n\nالرئيس: جيمس ريردن أندرسن \n\nتطوير المعرفة في الإسلام المبكر – نصر حامد أبو زيدالتاريخ من الأسفل؛ القاموس من الأسفل – نيللي حنا	 \n\nالحلقة 2 – المؤسسات الإسلامية: التقاليد والمساهمات \n\nالرئيس: باتريك ميدوز \n\nالإرث الفاطمي: السياسات وسابقة التعايش بين الأقلية والأغلبية في الإسلام – سمية أ. حمدانيالأسرة المتغيرة في الإسلام – أميرة سنبلالمسجد بين الأمس واليوم – زكريا عبد الهادي\n\nالحلقة 3 – الإسلام والعملية الفكرية \n\nالرئيس: إبراهيم عويس \n\nالاتجاهات الجديدة في الفكر الإسلامي – حسن حنفيالإسلام والعملية الفكرية: تفكيك الابسمتية (المعرفة الإنسانية) – محمد أركونالمعرفة والتأويل في الإسلام اليوم – طارق رمضان	 \n\nالحلقة 4 – الابتكار الأدبي والفني \n\nالرئيس: باتريسيا أوكونور \n\nالابتكار والتقليد في الفن الإسلامي – والتر دنيالشعر الصوفي: الابتكار والتقليد – باتريك لودالتاريخ والسيرة الذاتية – جاويد مجددي\n\nالحلقة 5 – اللاهوت وسياسات الفقه \n\nالرئيس: ادموند غريب \n\nالفقه الشيعي على أبواب التغيير التاريخي – مهران كمرافاالخلاف الفقهي والأخلاقي في: تحدي العدل في نظام العدالة الجنائية – زيبا مير حسينيتفسير السيرة الذاتية النسائية في الكتابات الإسلامية في القرون الوسطى – أميمة أبو بكر\n\nالحلقة 6 – الإسلام والحداثةالرئيس: جوشوا ميتشل \n\nالإسلام الليبرالي/التقدمي والحديث والعصري: المسلمون والدولة الأمريكية – شيرمان جاكسونالحركات الحديثة في الإسلام – جون فولاستقبال الجذور الإسلامية للرأسمالية – بيتر جران\n\n​
URL:https://cirs.qatar.georgetown.edu/event/%d9%85%d8%b1%d9%83%d8%b2-%d8%a7%d9%84%d8%af%d8%b1%d8%a7%d8%b3%d8%a7%d8%aa-%d8%a7%d9%84%d8%af%d9%88%d9%84%d9%8a%d8%a9-%d9%88%d8%a7%d9%84%d8%a5%d9%82%d9%84%d9%8a%d9%85%d9%8a%d8%a9-%d9%8a%d8%b3%d8%aa/
ATTACH;FMTTYPE=image/jpeg:https://cirs.qatar.georgetown.edu/wp-content/uploads/sites/3/2015/06/zakaryya_abdel_hady_mehran-1.jpg
END:VEVENT
END:VCALENDAR