BEGIN:VCALENDAR
VERSION:2.0
PRODID:-//Center for International and Regional Studies - ECPv6.15.15//NONSGML v1.0//EN
CALSCALE:GREGORIAN
METHOD:PUBLISH
X-WR-CALNAME:Center for International and Regional Studies
X-ORIGINAL-URL:https://cirs.qatar.georgetown.edu
X-WR-CALDESC:Events for Center for International and Regional Studies
REFRESH-INTERVAL;VALUE=DURATION:PT1H
X-Robots-Tag:noindex
X-PUBLISHED-TTL:PT1H
BEGIN:VTIMEZONE
TZID:Europe/Moscow
BEGIN:DAYLIGHT
TZOFFSETFROM:+0300
TZOFFSETTO:+0400
TZNAME:MSD
DTSTART:20070324T230000
END:DAYLIGHT
BEGIN:STANDARD
TZOFFSETFROM:+0400
TZOFFSETTO:+0300
TZNAME:MSK
DTSTART:20071027T230000
END:STANDARD
BEGIN:DAYLIGHT
TZOFFSETFROM:+0300
TZOFFSETTO:+0400
TZNAME:MSD
DTSTART:20080329T230000
END:DAYLIGHT
BEGIN:STANDARD
TZOFFSETFROM:+0400
TZOFFSETTO:+0300
TZNAME:MSK
DTSTART:20081025T230000
END:STANDARD
BEGIN:DAYLIGHT
TZOFFSETFROM:+0300
TZOFFSETTO:+0400
TZNAME:MSD
DTSTART:20090328T230000
END:DAYLIGHT
BEGIN:STANDARD
TZOFFSETFROM:+0400
TZOFFSETTO:+0300
TZNAME:MSK
DTSTART:20091024T230000
END:STANDARD
END:VTIMEZONE
BEGIN:VEVENT
DTSTART;TZID=Europe/Moscow:20080226T080000
DTEND;TZID=Europe/Moscow:20080226T180000
DTSTAMP:20260423T034253
CREATED:20150615T125759Z
LAST-MODIFIED:20210524T092225Z
UID:10001045-1204012800-1204048800@cirs.qatar.georgetown.edu
SUMMARY:الإعلام العالمي بين الحوار والحرب: عندما يرفع الأعداء درجات التصنيف
DESCRIPTION:استضاف مركز الدراسات الدولية والإقليمية يوم الثلاثاء 26 فبراير 2008، مؤتمراً ليوم واحد مع منظمة ريسيت الإيطالية – حوار حول الحضارات، وذلك في قاعة المحاضرات رقم 2 من كلية وايل كورنيل للطب. \n \n \nشملت هذه الندوة مجموعة مكثفة من النقاشات بين خبراء في مجالات الإعلام والصحافة والعلاقات الدولية والدراسات السينمائية لمناقشة تداعيات استخدام وسائل الإعلام الدولية كسلاح من أسلحة الحرب. وحضر الندوة طلاب وصحفيون وعلماء وسفراء مقيمون في الدوحة، وأفراد آخرون من العامة. \n \n \nاستقبل الحضور والضيوف مهران كمرافا، مدير مركز الدراسات الدولية والإقليمية، ونينا زو فرستنبرغ، مدير منظمة ريسيت. قدمت للضيوف بعدئذ لمحة موجزة من قبل سعادة جوزيبي بوتشينو جريمالدي، سفير إيطاليا إلى دولة قطر، الذي أشاد بجهود جامعة جورجتاون، ومؤسسة قطر، والجزيرة للرؤى التي يطرحونها وتقديرهم للتفكير التقدمي، والحوار المفتوح والتعليم. \n \n \nمن بين المتحدثين المشاركين في الندوة: جوليانو أماتو وزير الداخلية الإيطالية، وأوتو شيلي، عضو البرلمان الألماني. ومتحدثين آخرين – كشخصيات سياسية مشهورة، وصانعي الأفلام، وأكاديميين، وممارسين – لتداول العديد من القضايا الهامة المتعلقة بالعلاقة بين وسائل الإعلام والحرب، فضلاً عن حالة التفاعل بين ما يعرف على نطاق واسع بوسائل الإعلام العربية والغربية. \n \n \nكما تمت مناقشة التوازن الذي تلعبه تكتلات العديد من وسائل الإعلام بين المطالب المحلية والتفضيلات من جهة والاتجاهات الدولية متعددة الثقافات من جهة أخرى. ما أدى إلى انتشار البث الإعلامي متعدد اللغات. في سياق البيئة العالمية في أعقاب أحداث 9/11، كان للقنوات التي تبث بالعربية أهمية خاصة حيث تسابقت وسائل الإعلام على استقطاب جمهور أوسع في العالم العربي لتغطية الأحداث. وتم الجمع بين قضايا أخرى ذات أهمية معاصرة – كالهجرة والإرهاب والانتشار الثقافي – لزيادة فائدة دور وسائل الإعلام العالمية. \n \n \nتابع الجمهور أيضاً فيلمين وثائقيين وتمكن من توجيه الأسئلة لأعضاء مجلس الإدارة الذين قدموا أعمالهم. كان الفيلم الأول بعنوان: “من نصدق؟”، وتم عرضه من قبل المخرج الإيراني حسين دهباشي ومساعده ماتيو فرزانه. وكانت النسخة المعروضة نسخة معدلة عن الفيلم الوثائقي الأصلي الذي بلغت مدته سبع ساعات، وتناول التعليق على الحرب في العراق وكيف أصبحت تغطيتها موضوعاً استقطب وسائل الإعلام الغربية والعربية. \n \n \nأما الفيلم الوثائقي الثاني فقد كان اقتراحاً قدمه كارلو سارتوري، الرئيس التنفيذي لشركة نيوكو راي الدولية، وهي منظمة إعلامية إيطالية، تحدث الفيلم عن إطلاق قناة باللغة العربية من منظور الإيطالي، بهدف تخفيف بعض من توتر العلاقات بين العالم العربي والغرب عبر التأكيد على التواصل بين الثقافات. \n \n \nخلصت الندوة إلى التأكيد على أن الإصغاء هام للوصول لحل للحرب كما هو الحديث أيضاً، وأن عملية التواصل في اتجاهين تعد النموذج الأسهل والأصعب من نماذج التواصل. \n \n \n  \n \n \nبرنامج الفعاليات\n \n9:00 – 9:30 صباحاً    الاستقبالمهران كمرافا، مدير مركز الدراسات الدولية والإقليمية \n \n \nسعادة جوزيبي بوتشينو جريمالدي، سفير إيطاليا في قطر \n \n \nنينا زو فرستنبرغ، مدير منظمة ريسيت – حوار حول الحضارات، إيطاليا \n \n \n  \n \n \n9:30 – 11:30 صباحاً    الحلقة 1 \n \n \nوسائل الإعلام كسلاح؟ وجهات نظر بين الشرق والغرب \n \n \nحللت هذه الحلقة كيف شكل التلفزيون وغيره من وسائل الإعلام عملية الفهم المتبادل بين مختلف الثقافات والأديان، انطلاقاً من وسائل الإعلام والقنوات الفضائية إلى انتشار المدونات، ومن التواصل العمودي إلى الأفقي. \n \n \n  \n \n \nضمت قائمة المتحدثين كلاً من: \n \n \nجيانكارلو بوستي، مجلة ريسيت، إيطاليادانييلا كونتي، معهد IMT لوكا، إيطالياأشرف جلال، جامعة قطرتوماس جورجيسيان، جامعة قطرإبراهيم هلال، قناة الجزيرة الدوليةستيفن ليفينجستون، جامعة جورج واشنطنباولو مانشيني، جامعة بيروجيا، إيطاليالورانس بنتاك، الجامعة الأمريكية في القاهرةمحمد زياني، الجامعة الأمريكية في الشارقة \n \n \n  \n \n \n12:00 – 1:30 ظهراً    أفلام ومناقشات \n \n \nالتلفزيون الديني والأخبار الدوليةقدم المخرج الإيراني حسين دهباشي ومساعده ماتيو م. فرزانه أحدث وثائقي من عملهما، وعرض المنتج التلفزيوني الإيطالي كارلو سارتوري مشروع قناة مبتكرة تبث في منطقة البحر الأبيض المتوسط. \n \n \n  \n \n \n1:30 – 3:00 ظهراً    استراحة الغداء \n \n \n  \n \n \n3:00 – 5:00 عصراً    الحلقة 2 \n \n \nكيف يمكن للسياسة التعامل مع الحرب الإعلامية \n \n \n  \n \n \nالمقدمون\n \nجوليانو أماتو وزير الداخلية الإيطاليجيانكارلو بوستي، مجلة ريسيت، إيطاليامهران كمرافا، مدير مركز الدراسات الدولية والإقليميةأوتو شيلي، عضو البرلمان الألماني \n \n \nالمقال بقلم: سوزي ميرغاني، مدير ومحرر المطبوعات في مركز الدراسات الدولية والإقليمية.
URL:https://cirs.qatar.georgetown.edu/event/%d8%a7%d9%84%d8%a5%d8%b9%d9%84%d8%a7%d9%85-%d8%a7%d9%84%d8%b9%d8%a7%d9%84%d9%85%d9%8a-%d8%a8%d9%8a%d9%86-%d8%a7%d9%84%d8%ad%d9%88%d8%a7%d8%b1-%d9%88%d8%a7%d9%84%d8%ad%d8%b1%d8%a8-%d8%b9%d9%86%d8%af/
ATTACH;FMTTYPE=image/jpeg:https://cirs.qatar.georgetown.edu/wp-content/uploads/sites/3/2015/06/panel-1.jpg
END:VEVENT
END:VCALENDAR