BEGIN:VCALENDAR
VERSION:2.0
PRODID:-//Center for International and Regional Studies - ECPv6.15.15//NONSGML v1.0//EN
CALSCALE:GREGORIAN
METHOD:PUBLISH
X-WR-CALNAME:Center for International and Regional Studies
X-ORIGINAL-URL:https://cirs.qatar.georgetown.edu
X-WR-CALDESC:Events for Center for International and Regional Studies
REFRESH-INTERVAL;VALUE=DURATION:PT1H
X-Robots-Tag:noindex
X-PUBLISHED-TTL:PT1H
BEGIN:VTIMEZONE
TZID:Europe/Moscow
BEGIN:DAYLIGHT
TZOFFSETFROM:+0300
TZOFFSETTO:+0400
TZNAME:MSD
DTSTART:20070324T230000
END:DAYLIGHT
BEGIN:STANDARD
TZOFFSETFROM:+0400
TZOFFSETTO:+0300
TZNAME:MSK
DTSTART:20071027T230000
END:STANDARD
BEGIN:DAYLIGHT
TZOFFSETFROM:+0300
TZOFFSETTO:+0400
TZNAME:MSD
DTSTART:20080329T230000
END:DAYLIGHT
BEGIN:STANDARD
TZOFFSETFROM:+0400
TZOFFSETTO:+0300
TZNAME:MSK
DTSTART:20081025T230000
END:STANDARD
BEGIN:DAYLIGHT
TZOFFSETFROM:+0300
TZOFFSETTO:+0400
TZNAME:MSD
DTSTART:20090328T230000
END:DAYLIGHT
BEGIN:STANDARD
TZOFFSETFROM:+0400
TZOFFSETTO:+0300
TZNAME:MSK
DTSTART:20091024T230000
END:STANDARD
END:VTIMEZONE
BEGIN:VEVENT
DTSTART;TZID=Europe/Moscow:20080211T080000
DTEND;TZID=Europe/Moscow:20080211T180000
DTSTAMP:20260422T081528
CREATED:20150615T131403Z
LAST-MODIFIED:20210524T092225Z
UID:10001049-1202716800-1202752800@cirs.qatar.georgetown.edu
SUMMARY:غاري واسرمان في محاضرة عن دور جماعات الضغط في السياسة الخارجية الأمريكية
DESCRIPTION:دعيت مجموعة من الطلاب والضيوف من مركز الدراسات الدولية والإقليمية بتاريخ 11 فبراير 2008 لحضور محاضرة لغاري واسرمان أستاذ الشؤون الحكومية في كلية الشؤون الدولية في جامعة جورجتاون في قطر. تناولت محاضرة واسرمان، التي قدمت ضمن سلسلة الحوارات الشهرية لمركز الدراسات الدولية والإقليمية، مسألة “الديمقراطية والسياسة الخارجية الأميركية: هل تقوم مجموعات الاهتمام بالمساعدة أم الإعاقة؟“ \n \n \nقال واسرمان إن السماح لمجموعات الاهتمام بالضغط يساعد على انفتاح العملية السياسة الامريكية الخارجية شديدة المركزية والتي تهيمن عليها السلطة التنفيذية، وقد أطلق واسرمان على هذه الهيمنة التنفيذية اسم “الرئاسة”. يمكن تصور الرئاسة من خلال العديد من التجارب في ظل إدارة بوش. وقد استشهد واسرمان بأمثلة من اللغة الرئاسية على غرار خطاب القوات المسلحة، والزيادة في عدد الوثائق السرية في ظل إدارة بوش. \n \n \nيزعم واسرمان أن استخدام الوثائق السرية يحد من ضلوع الأجانب في العملية السياسية، ويقلل من الجدل السياسي والمساءلة التنفيذية. علاوة على ذلك، يتم استخدام هذه الوثائق المصنفة بشكل انتقائي كوسيلة لتحقيق غاية ما، كما حدث عند تراكم الحجج والذرائع عند شن الحرب على العراق. وتعتبر العقوبات الحكومية ضد الأصوات المعارضة مثالا آخر على “الرئاسة”، كحالة مجموعتين من مجموعات الضغط الأميركية الإسرائيلية للشؤون العامة اللتين تم مؤخراً محاكمتهما بتهمة الحصول على معلومات سرية. \n \n \nوفقاً لواسرمان، أضاف المناخ التالي لأحداث 11/9 قوة للتوجه نحو ممارسات “الرئاسة”، ومع ذلك، وعلى مدى السنوات القليلة الماضية، ومع الانتخابات الرئاسية الجديدة القادمة، يعتبر هذا التوجه هو البداية لتقويضنا من قبل الآخرين، مثل العولمة. فمن خلال العولمة ارتقت مجموعات نفوذ جديدة ومختلفة، وقد أدى هذا التوسع في المجال السياسي إلى جعل السياسة الخارجية الأميركية أكثر واقعية إلى حد ما. \n \n \nتوقع واسرمان بعدئذ سؤالاً متوقعاً من قبل الجمهور، فانطلاقاً من الصورة السلبية واسعة النطاق لمجموعات الاهتمام وجماعات الضغط: هل يعد إشراك أطراف أكثر في السياسة الخارجية أمراً مرغوب فيه؟ عندها أشار واسرمان إلى ألكسس دي توكفل، الذي لفت في منتصف القرن التاسع عشر إلى العلاقة غير المستقرة في الولايات المتحدة بين السياسة الخارجية والديمقراطية. \n \n \nتقليدياً، ينظر إلى هذين الكيانين على أنهما خصمان، وعلق واسرمان: ومع ذلك فإن السياسة الخارجية تنتج غالباً من التنازلات البيروقراطية، وأن السياسة الخارجية تصور بطريقة تبدو أكثر تماسكاً مما هي عليه في الواقع، وبالحديث عن عامل الشعب يرجع واسرمان إلى أعمال بنجامين بيج الذي صور الشعب بأنه متماسك، وأكد أنه لا ينبغي استبعادهم من عملية صنع القرار السياسي. ثم قدم بيج اقتراحات لهذه المشكلة في صميم هذه المسألة، أي كيفية تفعيل الديمقراطية للعمل مع السياسة الخارجية. \n \n \nأدت مشكلة “عامل الشعب” في المجتمع الأمريكي حالياً إلى زيادة الاهتمام من قبل الخبراء في كافة المجالات، وبالنسبة للسياسة الخارجية فجماعات الضغط هي التي تضم الخبراء بهذا المجال، بالتالي بإمكان جماعات الضغط العمل على انفتاح السياسة الخارجية والتقليل من ممارسات “الرئاسة”. \n \n \nاتخذ واسرمان موقفاً معاكساً للصورة النمطية السلبية التقليدية التي تحيط بجماعات الضغط، وأضاف فارقاً بسيطاً لصورتها التقليدية، حيث نبه واسرمان جمهوره إلى إمكانات جماعات الضغط كمساهمين في صنع السياسة الخارجية في الدولة الديمقراطية، أكثر منها مجموعات آخذة أنانية في هذه العملية. \n \n \n  \n \n \nأعد الملخص من قبل كاترين فانبي، طالبة الدكتوراه في جامعة جورجتاون، والعاملة في سفارة بلجيكا في الدوحة.
URL:https://cirs.qatar.georgetown.edu/event/%d8%ba%d8%a7%d8%b1%d9%8a-%d9%88%d8%a7%d8%b3%d8%b1%d9%85%d8%a7%d9%86-%d9%81%d9%8a-%d9%85%d8%ad%d8%a7%d8%b6%d8%b1%d8%a9-%d8%b9%d9%86-%d8%af%d9%88%d8%b1-%d8%ac%d9%85%d8%a7%d8%b9%d8%a7%d8%aa-%d8%a7%d9%84/
ATTACH;FMTTYPE=image/jpeg:https://cirs.qatar.georgetown.edu/wp-content/uploads/sites/3/2015/06/events_20816_19881_1414316381-1.jpg
END:VEVENT
END:VCALENDAR