BEGIN:VCALENDAR
VERSION:2.0
PRODID:-//Center for International and Regional Studies - ECPv6.15.15//NONSGML v1.0//EN
CALSCALE:GREGORIAN
METHOD:PUBLISH
X-WR-CALNAME:Center for International and Regional Studies
X-ORIGINAL-URL:https://cirs.qatar.georgetown.edu
X-WR-CALDESC:Events for Center for International and Regional Studies
REFRESH-INTERVAL;VALUE=DURATION:PT1H
X-Robots-Tag:noindex
X-PUBLISHED-TTL:PT1H
BEGIN:VTIMEZONE
TZID:Europe/Moscow
BEGIN:DAYLIGHT
TZOFFSETFROM:+0300
TZOFFSETTO:+0400
TZNAME:MSD
DTSTART:20060325T230000
END:DAYLIGHT
BEGIN:STANDARD
TZOFFSETFROM:+0400
TZOFFSETTO:+0300
TZNAME:MSK
DTSTART:20061028T230000
END:STANDARD
BEGIN:DAYLIGHT
TZOFFSETFROM:+0300
TZOFFSETTO:+0400
TZNAME:MSD
DTSTART:20070324T230000
END:DAYLIGHT
BEGIN:STANDARD
TZOFFSETFROM:+0400
TZOFFSETTO:+0300
TZNAME:MSK
DTSTART:20071027T230000
END:STANDARD
BEGIN:DAYLIGHT
TZOFFSETFROM:+0300
TZOFFSETTO:+0400
TZNAME:MSD
DTSTART:20080329T230000
END:DAYLIGHT
BEGIN:STANDARD
TZOFFSETFROM:+0400
TZOFFSETTO:+0300
TZNAME:MSK
DTSTART:20081025T230000
END:STANDARD
END:VTIMEZONE
BEGIN:VEVENT
DTSTART;TZID=Europe/Moscow:20071217T080000
DTEND;TZID=Europe/Moscow:20071217T180000
DTSTAMP:20260423T043534
CREATED:20150603T082147Z
LAST-MODIFIED:20210524T092226Z
UID:10001115-1197878400-1197914400@cirs.qatar.georgetown.edu
SUMMARY:التنمية العالمية، والمنظمات، والإيمان في العالم الإسلامي
DESCRIPTION:عقدت في تاريخ 17/12/2007 ندوة الفريق العامل المعني بالتنمية العالمية، والمنظمات، والإيمان في العالم الإسلامي في كلية الشؤون الدولية في جامعة جورجتاون – قطر، وكانت هذه الندوة الموجهة للممارسين في جميع أنحاء العالم الإسلامي، في شكل فعالية تشاورية لفريق العمل. أقيمت هذه الفعالية برعاية مشتركة بين مركز الدراسات الدولية والإقليمية، ومركز باركلي للأديان، والسلام، والشؤون الدولية، ومؤسسة هنري ر. لوس. ركزت الندوة على المؤسسات؛ والعلاقات بين القطاعين العام والخاص، والجهات المستلهمة من الدين؛ وقضايا التمويل؛ وغير ذلك من القضايا كالأطفال والتعليم والصحة والنوع الاجتماعي. واختتم هذا الحدث بمحاضرة مميزة لهاني البنا وأزهري قاسم أحمد، يذكر أن هاني البنا هو مؤسس ورئيس هيئة الإغاثة الإسلامية عبر العالم، وأزهري أحمد قاسم، هو كبير الاقتصاديين في البنك الإسلامي للتنمية. \n \n \nمن ضمن المشاركين في فريق العمل كان مهران كمرافا مدير مركز الدراسات الدولية والإقليمية، وسلمان شيخ مدير السياسات والبحوث في مكتب صاحبة السمو الشيخة موزا بنت ناصر المسند، وهادي عمرو مدير بروكينغز – قطر، وأمنية نور مديرة هيئة أيادي الخير نحو آسيا، بالإضافة إلى عدد من الضيوف الدوليين المميزين. \n \n \nيذكر أن ندوة فريق العمل هي جزء من مشروع بحثي مشترك متعدد السنوات بين مؤسسة لوس وكلية الشؤون الدولية، ويركز هذا المشروع على المؤسسات المستلهمة من الإيمان وذات الصلة به. ذكر كمرافا مدير مركز الدراسات الدولية والإقليمية أن “برنامج الندوة سيكون متكاملاً مع منهاج جامعة جورجتاون وسوف يستفيد الطلاب كثيراً من الانخراط مباشرة مع نتائج البحوث والمشاركة بشكل فعال في إنشاء قاعدة بيانات خاصة بالمنظمات الحكومية وغير الحكومية ذات الصلة بالإيمان”، وبحسب كمرافا، فإن هذه المبادرة هي شهادة التزام من قبل جامعة جورجتاون ومركز الدراسات الدولية والإقليمية لتشجيع منح دراسية معمقة وكذلك تقديم منتدى للحوار وتبادل الأفكار. \n \n \nسوف تقام البحوث على مدار ثلاث سنوات، وقد ركزت أولى البحوث على الولايات المتحدة واختتمت بمؤتمر لمناقشة قضايا المؤسسات المستلهمة من الإيمان. أما العام الحالي فهو المرحلة الثانية من البحوث، وهي تركز على العالم الإسلامي ودور المؤسسات الإسلامية العالمية المستلهمة من الإيمان، مثل هيئة الإغاثة الإسلامية، وجمعية الهلال الأحمر، وشبكة الآغا خان، وستركز المراحل القادمة على المؤسسات الأوروبية المستلهمة من الإيمان في أمريكا اللاتينية، وأفريقيا، وآسيا. \n \n \nسيتم الانتهاء من المشروع في عام 2009، وستنشر النتائج ضمن كتاب. \n \n \nلمزيد من المعلومات، يمكن مراجعة ملخص ندوة فريق العمل المعد من قبل مركز باركلي للأديان، والسلام، والشؤون الدولية.
URL:https://cirs.qatar.georgetown.edu/event/%d8%a7%d9%84%d8%aa%d9%86%d9%85%d9%8a%d8%a9-%d8%a7%d9%84%d8%b9%d8%a7%d9%84%d9%85%d9%8a%d8%a9%d8%8c-%d9%88%d8%a7%d9%84%d9%85%d9%86%d8%b8%d9%85%d8%a7%d8%aa%d8%8c-%d9%88%d8%a7%d9%84%d8%a5%d9%8a%d9%85/
ATTACH;FMTTYPE=image/jpeg:https://cirs.qatar.georgetown.edu/wp-content/uploads/sites/3/2015/06/conference_table1-1.jpg
END:VEVENT
BEGIN:VEVENT
DTSTART;TZID=Europe/Moscow:20071217T080000
DTEND;TZID=Europe/Moscow:20071217T180000
DTSTAMP:20260423T043534
CREATED:20150615T132252Z
LAST-MODIFIED:20210524T092226Z
UID:10001252-1197878400-1197914400@cirs.qatar.georgetown.edu
SUMMARY:هاني البنا وأزهري أحمد قاسم
DESCRIPTION:في إطار ندوة الفريق العامل المعني بالتنمية العالمية، والمنظمات، والإيمان في العالم المسلم، في 17 ديسمبر 2007، استضاف مركز الدراسات الدولية والإقليمية محاضرة متميزة ألقاها هاني البنا، مؤسس ورئيس هيئة الإغاثة الإسلامية عبر العالم، وأزهري أحمد قاسم، كبير الاقتصاديين في البنك الإسلامي للتنمية. \n \n \nفي وقت سابق من اليوم، عقدت ندوة الفريق العامل في كلية الشؤون الدولية في جامعة جورجتاون في قطر. ركزت الندوة على المؤسسات؛ والعلاقات بين القطاعين العام والخاص، والجهات المستلهمة من الدين؛ وقضايا التمويل؛ وغير ذلك من القضايا كالأطفال والتعليم والصحة والنوع الاجتماعي.
URL:https://cirs.qatar.georgetown.edu/event/%d9%87%d8%a7%d9%86%d9%8a-%d8%a7%d9%84%d8%a8%d9%86%d8%a7-%d9%88%d8%a3%d8%b2%d9%87%d8%b1%d9%8a-%d8%a3%d8%ad%d9%85%d8%af-%d9%82%d8%a7%d8%b3%d9%85/
ATTACH;FMTTYPE=image/jpeg:https://cirs.qatar.georgetown.edu/wp-content/uploads/sites/3/2015/06/marshall_el_banna_cisse-1.jpg
END:VEVENT
END:VCALENDAR