BEGIN:VCALENDAR
VERSION:2.0
PRODID:-//Center for International and Regional Studies - ECPv6.15.15//NONSGML v1.0//EN
CALSCALE:GREGORIAN
METHOD:PUBLISH
X-ORIGINAL-URL:https://cirs.qatar.georgetown.edu
X-WR-CALDESC:Events for Center for International and Regional Studies
REFRESH-INTERVAL;VALUE=DURATION:PT1H
X-Robots-Tag:noindex
X-PUBLISHED-TTL:PT1H
BEGIN:VTIMEZONE
TZID:Europe/Moscow
BEGIN:DAYLIGHT
TZOFFSETFROM:+0300
TZOFFSETTO:+0400
TZNAME:MSD
DTSTART:20060325T230000
END:DAYLIGHT
BEGIN:STANDARD
TZOFFSETFROM:+0400
TZOFFSETTO:+0300
TZNAME:MSK
DTSTART:20061028T230000
END:STANDARD
BEGIN:DAYLIGHT
TZOFFSETFROM:+0300
TZOFFSETTO:+0400
TZNAME:MSD
DTSTART:20070324T230000
END:DAYLIGHT
BEGIN:STANDARD
TZOFFSETFROM:+0400
TZOFFSETTO:+0300
TZNAME:MSK
DTSTART:20071027T230000
END:STANDARD
BEGIN:DAYLIGHT
TZOFFSETFROM:+0300
TZOFFSETTO:+0400
TZNAME:MSD
DTSTART:20080329T230000
END:DAYLIGHT
BEGIN:STANDARD
TZOFFSETFROM:+0400
TZOFFSETTO:+0300
TZNAME:MSK
DTSTART:20081025T230000
END:STANDARD
END:VTIMEZONE
BEGIN:VEVENT
DTSTART;TZID=Europe/Moscow:20071112T080000
DTEND;TZID=Europe/Moscow:20071112T180000
DTSTAMP:20260422T172913
CREATED:20150615T134826Z
LAST-MODIFIED:20210524T092242Z
UID:10001255-1194854400-1194890400@cirs.qatar.georgetown.edu
SUMMARY:تدهور البيئة والحفاظ عليها: التحديات والآفاق
DESCRIPTION:اجتمع فريق من الخبراء من المدينة التعليمية ومن جميع أنحاء العالم يوم الإثنين 12 نوفمبر 2007، لمناقشة العواقب البيئية لعملية التحول الصناعي السريع في قطر. وقد شارك في النقاش متحدثون من جميع الفروع في المدينة التعليمية، وكان هذا الحدث برعاية مركز الدراسات الدولية والإقليمية، وكلية الشؤون الدولية في جامعة جورجتاون في قطر. \n \n \nوصف تيموثي بيتش مدير مركز جامعة جورجتاون للبيئة كيف أن مناخ الأرض يميل لاتباع دورات قصيرة من الطقس الحار تليها عصور طويلة من الطقس البارد، ووفقاً لبيتش، فإن هذه الدورات تفسر تشرد شعب المايا، كما تفسر استقرار الناس على طول وادي نهر النيل. وقد نسب بيتش الفضل في رفع مستوى الوعي العام حول المشكلة إلى فيلم “الحقيقة المزعجة” وهو فيلم آل غور الحائز على جائزة تغير المناخ، لكن بيتش أشار إلى أن فيلم آل غور يستخدم إجراءات منخفضة الاحتمال وعالية التأثير لدفع الناس للتصرف حيال هذه المشكلة. \n \n \nناقش باتريك لينك قضية الموارد المائية في قطر، حيث يعمل لينك كمهندس كيميائي في جامعة تكساس للعلوم الزراعية والميكانيكية في قطر، وقد درس لينك استخدام مياه البحر والمياه المحلاة لتلبية احتياجات التحول الصناعي السريع. \n \n \nأما ديبورا لانج المحاضرة في جامعة كارنيج ميلون في بيتسبيرغ فقد قامت بتوصيف دور القيادة الذي تأخذه الجامعة على عاتقها في خلق وترويج الممارسات التجارية المستدامة. وبالإضافة إلى الترويج لجهود البيئة الصديقة، فإن جامعة كارنيج ميلون تقوم بدمج برامج الوعي البيئي مع جميع برامج الدراسات الجامعية والدراسات العليا، ولهذه الأسباب، أدرجت جامعة كارنيج ميلون من قبل نادي سييرا كواحدة من أفضل 10 مؤسسات ملتزمة في العمل البيئي. ويعتبر نادي سييرا من أقدم المنظمات البيئية الشعبية وهو يضم أكثر من 1.3 مليون عضو في أمريكا. \n \n \nأوضح بيتر مارتن وهو بروفيسور في تصميم الاتصالات من جامعة فرجينيا كومنولث في قطر العلاقة الفريدة بين المشاكل البيئية والمشاكل الثقافية، وأثناء توصيف التطور في الثقافة الحديثة، أوضح البروفيسور مارتن أن البشرية ترى نفسها أنها منفصلة أو مستقلة عن البيئة. ومع شعورنا بالراحة أكثر مع البيئات الاصطناعية بدأنا في التقليل من شأن الزمان والمكان والتاريخ، ومن خلال عكس هذا التدهور الثقافي يمكننا أن نبني الممارسات التجارية المستدامة التي من شأنها وقف التدهور البيئي. \n \n \nناقشت رينيه ريتشر الدكتور في علم الأحياء في كلية وايل كورنل للطب التحديات التي تواجه المحافظة على البيئة نتيجة عملية التحول الصناعي السريع في قطر. وأوضحت تفرد البيئة القطرية، مع درجات حرارة عالية متطرفة، وقلة سقوط الأمطار، وارتفاع ملوحة المياه. للأسف نتيجة لصغر مساحة دولة قطر والنمو الأخير أدى ذلك لعدم وجود حصيلة دقيقة لتنوع أشكال الحياة في البلاد، كما أن النمو السريع في قطر يؤدي إلى تدمير المساكن الطبيعية للحيوانات فضلا عن استغلال الموارد الطبيعية، والنمو السكاني في قطر هو أحد الأمثلة، فبحسب ريتشر “لقد تضاعف اصطياد الأسماك من 79\,000 طن عام 2001 إلى 140\,000 طن عام 2005، وهذا ارتفاع كبير في استهلاك هذا المورد”، قدمت الدكتور ريتشر الشكر والتقدير لخطة عمل التنوع البيولوجي للحكومة القطرية كخطوة إلى الأمام لبناء بيئة مستدامة في قطر. \n \n \nوفي إطار استمرار عرض مركز الدراسات الدولية والإقليمية عن البيئة، نشرت الدكتور رينيه ريتشر في مارس 2008 ورقة مراجعة بعنوان “الحفاظ على البيئة في قطر: آثار التحول الصناعي المتنامي“. \n \n  المقال بقلم: سوزي ميرغاني، مدير ومحرر المطبوعات في مركز الدراسات الدولية والإقليمية.
URL:https://cirs.qatar.georgetown.edu/event/%d8%aa%d8%af%d9%87%d9%88%d8%b1-%d8%a7%d9%84%d8%a8%d9%8a%d8%a6%d8%a9-%d9%88%d8%a7%d9%84%d8%ad%d9%81%d8%a7%d8%b8-%d8%b9%d9%84%d9%8a%d9%87%d8%a7-%d8%a7%d9%84%d8%aa%d8%ad%d8%af%d9%8a%d8%a7%d8%aa-%d9%88/
ATTACH;FMTTYPE=image/jpeg:https://cirs.qatar.georgetown.edu/wp-content/uploads/sites/3/2015/06/events_21986_20126_1414918182-1.jpg
END:VEVENT
END:VCALENDAR